BEGIN:VCALENDAR
PRODID:NingEventWidget-v1
VERSION:2.0
METHOD:PUBLISH
BEGIN:VTIMEZONE
TZID:America/New_York
X-LIC-LOCATION:America/New_York
BEGIN:DAYLIGHT
TZOFFSETFROM:-0500
TZOFFSETTO:-0400
TZNAME:EDT
DTSTART:19700308T020000
RRULE:FREQ=YEARLY;BYMONTH=3;BYDAY=2SU
END:DAYLIGHT
BEGIN:STANDARD
TZOFFSETFROM:-0400
TZOFFSETTO:-0500
TZNAME:EST
DTSTART:19701101T020000
RRULE:FREQ=YEARLY;BYMONTH=11;BYDAY=1SU
END:STANDARD
END:VTIMEZONE
BEGIN:VEVENT
UID:5283893:Event:497795
DTSTAMP:20260422T163045Z
SUMMARY:FREE WEBINAR:  How to use Video during Downtime to Increase Sa
 les
DESCRIPTION:YouTube and Facebook can easily be major income producers 
 for car salespeople. If done right, salespeople could earn double dig
 it increases in car sales simply by posting unique videos on these tw
 o popular social media sites.  However, most folks don’t utilize on
 e or both correctly, or they make boring videos not worth watching.\nD
 O YOU WANT TO KNOW HOW TO MAKE VIDEOS IN YOUR DOWN TIME THAT WILL BRIN
 G YOU MORE $$$$?\nWe’re going to dedicate a full hour to show you, i
 n detail, how rock star car salesman Mike “The Louisville Chevy Dude
 ” Davenport does just that. He should know! He’s a top performing 
 sales guy with over 4 million views on YouTube and 40,000 followers on
  social media.\nMike is going to share his video tips, tricks, secret
 s and strategies. Attendees of this incredible 1 hour presentation wil
 l learn how any salesperson can take the power of YouTube & Facebook 
 and turn it into a marketing empire for themselves and the dealership.
 \nThis is the game-changer that every car salesperson needs to know!
 \nIf you are ready to learn How to use Video during Downtime to Incre
 ase Sales then this is an Hour of Automotive Awesomeness that you s
 imply can’t afford to miss!  Register now!\nPRESENTER: MIKE “The 
 Louisville Chevy Dude” DAVENPORT is a self-proclaimed Chevy Enthusi
 ast. Not only is he the leading salesman for Bachman Chevrolet, he is 
 also a top performer of New Chevrolet Sales in the country and one of 
 the 40 highest rated salesmen on DealerRater.com. A 15 year veteran in
  the auto industry, he has held numerous dealership management positio
 ns such as Sales, F&I, New Car Manager, Used Car Manager and GSM. Howe
 ver, Mike’s meteoric rise in sales didn’t start until 2010 when he
  bravely decided to leave the management sector of the car business to
  start from scratch as a salesperson in a new town at a new dealership
  where he could focus his branding efforts on himself and provide an e
 xcellent example for other salespeople. He owns several domain names, 
 maintains a very successful YouTube channel with over millions of view
 s, runs very aggressive social media campaigns, and his social media p
 resence proves he is a leader in the industry for other sales professi
 onals & managers. Mike Davenport is the epitome of a Rockstar Salesper
 son, a very active member of the automotive community and he can be re
 ached at Mike@ChevyDude.com.\n\nFor more information visit https://www
 .dealerelite.net/events/free-webinar-how-to-use-video-during-downtime-
 to-increase-sales
DTSTART;TZID=America/New_York:20170518T120000
DTEND;TZID=America/New_York:20170518T130000
CATEGORIES:webinar, free
LOCATION:http://www.dealeron.com/webinar/use-video-downtime-increase-s
 ales/
WEBSITE:http://www.dealeron.com/webinar/use-video-downtime-increase-sa
 les/
URL:http://www.dealeron.com/webinar/use-video-downtime-increase-sales/
CONTACT:
ORGANIZER;CN="Eliana Raggio":https://www.dealerelite.net/profile/Elian
 aRaggio
ATTACH;FMTTYPE="image/jpeg":http://storage.ning.com/topology/rest/1.0/
 file/get/2633024278?profile=original
ATTENDEE;ROLE=REQ-PARTICIPANT;PARTSTAT=ACCEPTED;RSVP=TRUE;CN="TERRY MY
 ERS":https://www.dealerelite.net/profile/TERRYMYERS
ATTENDEE;ROLE=REQ-PARTICIPANT;PARTSTAT=ACCEPTED;RSVP=TRUE;CN="Eliana R
 aggio":https://www.dealerelite.net/profile/ElianaRaggio
END:VEVENT
END:VCALENDAR
