BEGIN:VCALENDAR
PRODID:NingEventWidget-v1
VERSION:2.0
METHOD:PUBLISH
BEGIN:VTIMEZONE
TZID:America/New_York
X-LIC-LOCATION:America/New_York
BEGIN:DAYLIGHT
TZOFFSETFROM:-0500
TZOFFSETTO:-0400
TZNAME:EDT
DTSTART:19700308T020000
RRULE:FREQ=YEARLY;BYMONTH=3;BYDAY=2SU
END:DAYLIGHT
BEGIN:STANDARD
TZOFFSETFROM:-0400
TZOFFSETTO:-0500
TZNAME:EST
DTSTART:19701101T020000
RRULE:FREQ=YEARLY;BYMONTH=11;BYDAY=1SU
END:STANDARD
END:VTIMEZONE
BEGIN:VEVENT
UID:5283893:Event:166007
DTSTAMP:20260421T094706Z
SUMMARY:Free Webinar: How to Wage a Successful Facebook \"Like\" Campa
 ign
DESCRIPTION:When it comes to showing that your Facebook Page is a suc
 cess, there’s no better basic indicator than \"Likes\"—the number 
 of Fans who are engaged with your Page. Learn how to round them up wit
 h How To Wage A Successful Like Campaign. Your Likes are your distribu
 tion list, the number of people you can reach out to for digital marke
 ting, positive dialogue and brand building. They are also a badge of c
 redibility, showing new visitors to your Facebook page that others are
  engaging you and getting benefit. With Likes so crucial to so many as
 pects of Facebook marketing, you have to know how to get proactive whe
 n it comes to gathering them. How To Wage A Successful Like Campaign p
 uts a plan in your hands to pull in Likes, starting with preparation a
 nd seeing it through to sustaining your new Fan population. The steps 
 range from the strategic, such as Take Aim At Future Friends, to the t
 actical and technical, covering the tools and techniques you’ll need
  to stay on top of building Likes while still managing your time. With
  hundreds of millions on Facebook, just about anyone can use these ste
 p-by-step methods to boost your Fan base on the world’s favorite soc
 ial network.  Frankly, you can’t afford not to! Presenter: Matthew 
 Funk is a Social Media Specialist and writer for TK Carsites.  Matthe
 w has directed and executed the social media strategy for businesses r
 anging from internet start-ups to major corporations and in media from
  print to 3-D virtual worlds. He is also a moderator of several forums
  on writing, a writing mentor and the author of several fiction and no
 n-fiction pieces online.  You can find out more about him at www.matt
 hewfunk.net\n\nFor more information visit https://www.dealerelite.net/
 events/free-webinar-how-to-wage-a
DTSTART;TZID=America/New_York:20110727T120000
DTEND;TZID=America/New_York:20110727T130000
CATEGORIES:free, webinar
LOCATION:https://www1.gotomeeting.com/register/982420328
WEBSITE:https://www1.gotomeeting.com/register/982420328
URL:https://www1.gotomeeting.com/register/982420328
CONTACT:
ORGANIZER;CN="Eliana Raggio":https://www.dealerelite.net/profile/Elian
 aRaggio
ATTACH;FMTTYPE="image/jpeg":
ATTENDEE;ROLE=REQ-PARTICIPANT;PARTSTAT=ACCEPTED;RSVP=TRUE;CN="Eliana R
 aggio":https://www.dealerelite.net/profile/ElianaRaggio
END:VEVENT
END:VCALENDAR
