BEGIN:VCALENDAR
PRODID:NingEventWidget-v1
VERSION:2.0
METHOD:PUBLISH
BEGIN:VTIMEZONE
TZID:America/New_York
X-LIC-LOCATION:America/New_York
BEGIN:DAYLIGHT
TZOFFSETFROM:-0500
TZOFFSETTO:-0400
TZNAME:EDT
DTSTART:19700308T020000
RRULE:FREQ=YEARLY;BYMONTH=3;BYDAY=2SU
END:DAYLIGHT
BEGIN:STANDARD
TZOFFSETFROM:-0400
TZOFFSETTO:-0500
TZNAME:EST
DTSTART:19701101T020000
RRULE:FREQ=YEARLY;BYMONTH=11;BYDAY=1SU
END:STANDARD
END:VTIMEZONE
BEGIN:VEVENT
UID:5283893:Event:325061
DTSTAMP:20260422T222726Z
SUMMARY:FREE Webinar: How to Win Fans & Influence Newsfeeds on Faceboo
 k
DESCRIPTION:You put a lot of effort into maintaining a presence on Fac
 ebook, from building a base of fans to finding fresh content. But did 
 you know that—on average—the posts you publish are only seen by 16
 % of the people who like your page?\nStop marketing to thin air and ge
 t your message out!\nIn this 1-hour webinar, Arnold Tijerina will disc
 uss how Facebook determines who sees what you post, how to dramaticall
 y increase the percentage of your fans who see it, and how to extend y
 our message well into their networks. He will also share with you easy
  and free tools you can use to leverage not only your exposure to your
  Facebook fans on the site but also to people accessing Facebook via t
 heir mobile devices—and maybe even steal some customers from your co
 mpetitor!\nFor everyone out there who wants to dominate on Facebook, t
 his is one you cannot afford to miss!\nPRESENTER: Arnold Tijerina is t
 he Social Media Strategist & Policy Manager for 3 Birds Marketing. He 
 was the Director of Interactive Media for Dealer Communications – pu
 blisher of Dealer Magazine and host of the Digital Dealer Conference &
  Exposition, the largest trade magazine and digital marketing conferen
 ce for auto dealers – and has over 9 years’ experience in the auto
  industry. His background includes being an Internet Director for larg
 e auto groups in Southern California. He also worked for HomeNet Autom
 otive which handles digital marketing for over 17,000 auto dealers. He
  is an active and respected member of the online automotive community 
 and is known for his expertise in digital marketing and social media. 
 An active speaker, writer and blogger, he can be reached at Arnold@3Bi
 rdsMarketing.com.\n\nFor more information visit https://www.dealerelit
 e.net/events/free-webinar-how-to-win-fans-influence-newsfeeds-on-faceb
 ook
DTSTART;TZID=America/New_York:20121018T120000
DTEND;TZID=America/New_York:20121018T130000
CATEGORIES:webinar, free
LOCATION:http://www.dealeron.com/webinar/events/how-to-win-fans-influe
 nce-newsfeeds-on-facebook/
WEBSITE:http://www.dealeron.com/webinar/events/how-to-win-fans-influen
 ce-newsfeeds-on-facebook/
URL:http://www.dealeron.com/webinar/events/how-to-win-fans-influence-n
 ewsfeeds-on-facebook/
CONTACT:
ORGANIZER;CN="Eliana Raggio":https://www.dealerelite.net/profile/Elian
 aRaggio
ATTACH;FMTTYPE="image/jpeg":http://storage.ning.com/topology/rest/1.0/
 file/get/2632957063?profile=original
ATTENDEE;ROLE=REQ-PARTICIPANT;PARTSTAT=ACCEPTED;RSVP=TRUE;CN="Eliana R
 aggio":https://www.dealerelite.net/profile/ElianaRaggio
END:VEVENT
END:VCALENDAR
