BEGIN:VCALENDAR
PRODID:NingEventWidget-v1
VERSION:2.0
METHOD:PUBLISH
BEGIN:VTIMEZONE
TZID:America/New_York
X-LIC-LOCATION:America/New_York
BEGIN:DAYLIGHT
TZOFFSETFROM:-0500
TZOFFSETTO:-0400
TZNAME:EDT
DTSTART:19700308T020000
RRULE:FREQ=YEARLY;BYMONTH=3;BYDAY=2SU
END:DAYLIGHT
BEGIN:STANDARD
TZOFFSETFROM:-0400
TZOFFSETTO:-0500
TZNAME:EST
DTSTART:19701101T020000
RRULE:FREQ=YEARLY;BYMONTH=11;BYDAY=1SU
END:STANDARD
END:VTIMEZONE
BEGIN:VEVENT
UID:5283893:Event:491432
DTSTAMP:20260425T065925Z
SUMMARY:FREE WEBINAR -- How to Win Friends and Sell More Cars in 2017 
 - Be Adorable!
DESCRIPTION:We are kicking off our 2017 DealerOn Webinar series with a
  BANG! Famed automotive trainer David Kain is bringing you a timely to
 pic that will carry you and your dealership all the way through the Ne
 w Year…and beyond!\nIt all starts with one simple question every sal
 esperson should ask themselves… ARE YOU ADORABLE?\nNo, really…are 
 you? Because successful Automotive Salespeople have learned that provi
 ding a great price on a good car is important, but it’s not everythi
 ng. It takes more than that! Being attractive, informative, creative, 
 or heck, adorable, will ensure you the best possible results and help 
 you move more metal.\nIn this brilliant 1 hour training session, the o
 ne and only David Kain explains in detail How to Win Friends and Sell 
 more Cars in 2017!\nConsumers buy when their hearts & minds are in agr
 eement and David will demonstrate the critical communication tactics u
 sed by the very best in the industry that will get you proven results 
 and a bigger bottom line.\nAre you ready to BE MORE ADORABLE so that y
 ou can Win Friends and Sell More Cars in 2017? Then you had better not
  miss this amazing presentation! Register now!\nPRESENTER: David Kain 
 is President of KainAutomotive.com, an award-winning training/consulti
 ng company that specializes in Automotive Internet Sales, BDC’s, Dig
 ital Marketing and Social Media with a focus on improving dealership s
 ales and profits. Notably, Kain Automotive was voted Best Internet Sal
 es Training Company for the last 5 years in a row in the Dealer’s Ch
 oice awards by Auto Dealer Monthly Magazine. David Kain has 20 years o
 f extensive automotive retail experience and also co-founded FordDirec
 t.com, a dealer/factory owned joint venture that provides the Internet
  leads to Ford and Lincoln dealers. David is an active speaker at many
  industry events including NADA Conventions, State Association Worksho
 ps, Digital Dealer Conferences and Manufacturer Training Conferences a
 s well as numerous 20 Groups and can be reached at David@KainAutomotiv
 e.com.\n\nFor more information visit https://www.dealerelite.net/event
 s/free-webinar-how-to-win-friends-and-sell-more-cars-in-2017-be
DTSTART;TZID=America/New_York:20170105T120000
DTEND;TZID=America/New_York:20170105T130000
CATEGORIES:webinar, free
LOCATION:http://www.dealeron.com/webinar/how-to-win-friends-and-sell-m
 ore-cars-in-2017/
WEBSITE:http://www.dealeron.com/webinar/how-to-win-friends-and-sell-mo
 re-cars-in-2017/
URL:http://www.dealeron.com/webinar/how-to-win-friends-and-sell-more-c
 ars-in-2017/
CONTACT:
ORGANIZER;CN="Eliana Raggio":https://www.dealerelite.net/profile/Elian
 aRaggio
ATTACH;FMTTYPE="image/jpeg":http://storage.ning.com/topology/rest/1.0/
 file/get/2632999762?profile=original
ATTENDEE;ROLE=REQ-PARTICIPANT;PARTSTAT=ACCEPTED;RSVP=TRUE;CN="Eliana R
 aggio":https://www.dealerelite.net/profile/ElianaRaggio
END:VEVENT
END:VCALENDAR
