BEGIN:VCALENDAR
PRODID:NingEventWidget-v1
VERSION:2.0
METHOD:PUBLISH
BEGIN:VTIMEZONE
TZID:America/New_York
X-LIC-LOCATION:America/New_York
BEGIN:DAYLIGHT
TZOFFSETFROM:-0500
TZOFFSETTO:-0400
TZNAME:EDT
DTSTART:19700308T020000
RRULE:FREQ=YEARLY;BYMONTH=3;BYDAY=2SU
END:DAYLIGHT
BEGIN:STANDARD
TZOFFSETFROM:-0400
TZOFFSETTO:-0500
TZNAME:EST
DTSTART:19701101T020000
RRULE:FREQ=YEARLY;BYMONTH=11;BYDAY=1SU
END:STANDARD
END:VTIMEZONE
BEGIN:VEVENT
UID:5283893:Event:497326
DTSTAMP:20260423T104553Z
SUMMARY:FREE WEBINAR: Jim Ziegler Lays Out the Career Path to Manageme
 nt
DESCRIPTION:DO YOU ASPIRE TO BECOME A GENERAL SALES MANAGER, GENERAL M
 ANAGER OR EVEN ONE DAY OWN YOUR VERY OWN DEALERSHIP?\nIf so, then you 
 are going to want to hear what legendary trainer Jim Ziegler has to 
 say. He has been guiding automotive professionals toward management a
 nd ownership for nearly 40 years! He knows exactly what it takes to 
 advance your career to the highest management levels…and he is ready
  to help you get there.\nIn this exceptional 1 hour webinar, Ziegler w
 ill talk about specific stages you must achieve in your career to mak
 e it to the top. He will quantify the goals, outline the steps, and r
 eview the achievements and required qualifications you need to climb
  the ladder of automotive success. In the end, attendees will have a 
 clear roadmap to reach top management and even ownership.\nDo you have
  what it takes? Let’s see!\nIf you are ready to move up to manageme
 nt (or even ownership) then spend an hour with the one and only Jim Z
 iegler at his best as he lays out the Career Path to Management!\nPRE
 SENTER: James A. Ziegler,  aka “The Alpha Dawg”, is a recognize
 d industry thought leader, best-selling author, magazine columnist and
  a certified speaking professional (CSP). Over the last 4 decades, Zie
 gler has done business with more than 15,000 dealerships and more than
  100,000 Dealers, managers and factory executives have attended Jim’
 s seminars. Traveling 200 days a year, he has worked in more than 1000
  showrooms in no less than 200 cities in 49 states. (Hasn’t made it 
 to Alaska yet) A celebrity speaker in the U.S. auto industry, Ziegler 
 is known for his high energy, controversial, top-rated keynote speeche
 s, national convention workshops, and in-dealership hands-on training.
  He has been the featured keynote speaker for 80 State Automobile Deal
 er Association Annual Conventions and has been consistently rated as a
  top speaker at 12 National NADA Conventions. Jim is often quoted as a
 n industry expert by news outlets such as Reuters, Automotive News, U
 SA Today, Bloomberg News, Dow-Jones, Entrepreneur magazine and CNN. H
 e is the author of the best-selling book The Prosperity Equation and
  he can be reached at ZieglerSS@aol.com.\n\nFor more information visi
 t https://www.dealerelite.net/events/free-webinar-jim-ziegler-lays-out
 -the-career-path-to-management
DTSTART;TZID=America/New_York:20170406T120000
DTEND;TZID=America/New_York:20170406T130000
CATEGORIES:webinar, free
LOCATION:http://www.dealeron.com/webinar/jim-ziegler-lays-career-path-
 management/
WEBSITE:http://www.dealeron.com/webinar/jim-ziegler-lays-career-path-m
 anagement/
URL:http://www.dealeron.com/webinar/jim-ziegler-lays-career-path-manag
 ement/
CONTACT:
ORGANIZER;CN="Eliana Raggio":https://www.dealerelite.net/profile/Elian
 aRaggio
ATTACH;FMTTYPE="image/jpeg":http://storage.ning.com/topology/rest/1.0/
 file/get/2632975185?profile=original
ATTENDEE;ROLE=REQ-PARTICIPANT;PARTSTAT=ACCEPTED;RSVP=TRUE;CN="Eliana R
 aggio":https://www.dealerelite.net/profile/ElianaRaggio
END:VEVENT
END:VCALENDAR
