BEGIN:VCALENDAR
PRODID:NingEventWidget-v1
VERSION:2.0
METHOD:PUBLISH
BEGIN:VTIMEZONE
TZID:America/New_York
X-LIC-LOCATION:America/New_York
BEGIN:DAYLIGHT
TZOFFSETFROM:-0500
TZOFFSETTO:-0400
TZNAME:EDT
DTSTART:19700308T020000
RRULE:FREQ=YEARLY;BYMONTH=3;BYDAY=2SU
END:DAYLIGHT
BEGIN:STANDARD
TZOFFSETFROM:-0400
TZOFFSETTO:-0500
TZNAME:EST
DTSTART:19701101T020000
RRULE:FREQ=YEARLY;BYMONTH=11;BYDAY=1SU
END:STANDARD
END:VTIMEZONE
BEGIN:VEVENT
UID:5283893:Event:503118
DTSTAMP:20260419T170209Z
SUMMARY:FREE WEBINAR: Make 2017 Your Best Year Yetâ€¦in Just 10 Steps!
DESCRIPTION:Succeeding in the Auto Industry is HARD!Â Dealers today fa
 ce a multitude of challenges ranging from shrinking vehicle profit mar
 gins to decreased brand loyalty to a lack of quality job applicants an
 d beyond.\nHowever,Â with the right strategies and proven tactics, ITâ
 €™S NOT TOO LATE TO MAKE 2017 YOUR BEST YEAR YET!Â \nIn this fast-pace
 d 1-hour webinar, Justin Brun and Ben KollerÂ will present 10 essentia
 l focus areasÂ dealerships must perfect toÂ overcome the most difficul
 t challenges today and set their dealership up for immediate success.Â
  Â This comprehensive presentation will give youstrategies and tactics
  that are practical, dealership-proven, and will ensure your success.Â
  \nThese 10 critical focus areas will coverÂ EVERY FACET OF DEALERSHIP
  OPERATIONSincluding:\n-Humanizing your dealership in the digital age\
 n-Crafting a persuasive and prominent Why Buy Message\n-Measuring the 
 effectiveness of current marketing choices to guide future decisions\n
 -And so much more\nFocus on these 10 key areas andÂ become one of thos
 e elite dealerships who enjoy real successÂ in the coming years while 
 others continue to struggle. If you want toÂ Make 2017 Your Best Year 
 Yetâ€¦in Just 10 Steps, then do yourself a favor and attend this jam-p
 acked presentation.Â  You will thank yourself later!\nPRESENTERS:Â Jus
 tin Brun & Ben KollerÂ are responsible for Acton Toyotaâ€™s website an
 d marketing campaigns.Â  Together, the two formed and manage Dynamic B
 eacon, a dealer-to-dealer digital marketing agency providing web creat
 ive services, email marketing, search engine marketing, and reputation
  management. With over 20 years of combined dealership experience, Jus
 tin and Ben are passionate about delivering unparalleled digital marke
 ting solutions that produce increased sales and business growth for de
 alers. Justin believes good marketing is key to telling the dealership
 â€™s story and leveraging its overall brand proposition. He takes grea
 t pride in being able to take a project from a simple vision and devel
 op it into a comprehensive program. Ben considers it a privilege to ha
 ve helped Acton Toyota build one of the most successful Internet opera
 tions in the U.S. and is extremely eager to assist dealerships improve
  their online marketing initiatives to improve their bottom line. They
  can be reached at Justin.Brun@DynamicBeacon.com and Ben.Koller@Dynami
 cBeacon.com.\n\nFor more information visit https://www.dealerelite.net
 /events/free-webinar-make-2017-your-best-year-yet-in-just-10-steps
DTSTART;TZID=America/New_York:20170720T120000
DTEND;TZID=America/New_York:20170720T130000
CATEGORIES:webinar, free
LOCATION:http://www.dealeron.com/webinar/make-2017-best-year-yetin-jus
 t-10-steps/
WEBSITE:http://www.dealeron.com/webinar/make-2017-best-year-yetin-just
 -10-steps/
URL:http://www.dealeron.com/webinar/make-2017-best-year-yetin-just-10-
 steps/
CONTACT:
ORGANIZER;CN="Eliana Raggio":https://www.dealerelite.net/profile/Elian
 aRaggio
ATTACH;FMTTYPE="image/jpeg":http://storage.ning.com/topology/rest/1.0/
 file/get/2633020172?profile=original
ATTENDEE;ROLE=REQ-PARTICIPANT;PARTSTAT=ACCEPTED;RSVP=TRUE;CN="Eliana R
 aggio":https://www.dealerelite.net/profile/ElianaRaggio
END:VEVENT
END:VCALENDAR
