BEGIN:VCALENDAR
PRODID:NingEventWidget-v1
VERSION:2.0
METHOD:PUBLISH
BEGIN:VTIMEZONE
TZID:America/New_York
X-LIC-LOCATION:America/New_York
BEGIN:DAYLIGHT
TZOFFSETFROM:-0500
TZOFFSETTO:-0400
TZNAME:EDT
DTSTART:19700308T020000
RRULE:FREQ=YEARLY;BYMONTH=3;BYDAY=2SU
END:DAYLIGHT
BEGIN:STANDARD
TZOFFSETFROM:-0400
TZOFFSETTO:-0500
TZNAME:EST
DTSTART:19701101T020000
RRULE:FREQ=YEARLY;BYMONTH=11;BYDAY=1SU
END:STANDARD
END:VTIMEZONE
BEGIN:VEVENT
UID:5283893:Event:345188
DTSTAMP:20260425T133335Z
SUMMARY:FREE Webinar: Mobile: 5 Breakthrough Strategies to Capture & C
 onvert On-the-go Car Shoppers
DESCRIPTION:Car Shoppers are using their phones to contact youâ€¦but t
 hey arenâ€™t calling! Car Shoppers are using mobile sites, mobile apps
 , QR codes, and many other tools during the shopping process. Mobile i
 snâ€™t just some future communication channel â€“ Itâ€™s here, itâ€™s 
 now, itâ€™s powerful and itâ€™s only going to get more relevant.\nDuri
 ng this exciting 1 hour webinar, weâ€™ll discuss how to use mobile-spe
 cific tools to capture and covert mobile shoppers. Weâ€™ll look at the
  latest in mobile data and examine just how fast the mobile revolution
  is moving. â€¢ Learn how you can use mobile as a retention strategy â
 €“ bring customers back to the dealership using location targeting and
  push notifications. â€¢ Learn the latest mobile strategies dealers ar
 e using to turn on-the-go car shoppers into showroom visits. â€¢ Learn
  how to build long-term relationships with your customers. â€¢ Learn h
 ow to measure your current mobile traffic and how you can convert mobi
 le visitors into sales and service revenue. â€¢ And moreâ€¦Youâ€™ll co
 me away with practical steps you can put in place today.\nWith dealers
  across the county reporting a substantial rise in mobile shoppers, th
 is is one webinar you simply canâ€™t afford to miss!\nPRESENTER: Ben A
 nderson is the President of AutoMotionTV Dealer App, which develops in
 novative mobile marketing solutions for the automotive industry. He is
  responsible for leading, developing and growing a company that leads 
 in mobile app technology for the dealership market. Ben has received s
 everal awards for his innovative work, including the 2011 Minnesota Yo
 ung Entrepreneur of the Year Award from the US Small Business Administ
 ration; the 2006 Regional Collegiate Entrepreneur from the Global Stud
 ent Entrepreneur Awards; and the 2005 Student Entrepreneur of the Year
  award (University of St. Thomas). Ben Anderson speaks nationally on m
 obile and emerging technology and he can be reached at benanderson@cin
 emotionstudios.com or at 612-353-4125.\n\nFor more information visit h
 ttps://www.dealerelite.net/events/free-webinar-mobile-5-breakthrough-s
 trategies-to-capture-convert
DTSTART;TZID=America/New_York:20130221T120000
DTEND;TZID=America/New_York:20130221T130000
CATEGORIES:webinar, free
LOCATION:http://www.dealeron.com/webinar/events/mobile-5-breakthrough-
 strategies-to-capture-convert-on-the-go-car-shoppers/
WEBSITE:http://www.dealeron.com/webinar/events/mobile-5-breakthrough-s
 trategies-to-capture-convert-on-the-go-car-shoppers/
URL:http://www.dealeron.com/webinar/events/mobile-5-breakthrough-strat
 egies-to-capture-convert-on-the-go-car-shoppers/
CONTACT:
ORGANIZER;CN="Eliana Raggio":https://www.dealerelite.net/profile/Elian
 aRaggio
ATTACH;FMTTYPE="image/jpeg":http://storage.ning.com/topology/rest/1.0/
 file/get/2632964629?profile=original
ATTENDEE;ROLE=REQ-PARTICIPANT;PARTSTAT=ACCEPTED;RSVP=TRUE;CN="Eliana R
 aggio":https://www.dealerelite.net/profile/ElianaRaggio
END:VEVENT
END:VCALENDAR
