BEGIN:VCALENDAR
PRODID:NingEventWidget-v1
VERSION:2.0
METHOD:PUBLISH
BEGIN:VTIMEZONE
TZID:America/New_York
X-LIC-LOCATION:America/New_York
BEGIN:DAYLIGHT
TZOFFSETFROM:-0500
TZOFFSETTO:-0400
TZNAME:EDT
DTSTART:19700308T020000
RRULE:FREQ=YEARLY;BYMONTH=3;BYDAY=2SU
END:DAYLIGHT
BEGIN:STANDARD
TZOFFSETFROM:-0400
TZOFFSETTO:-0500
TZNAME:EST
DTSTART:19701101T020000
RRULE:FREQ=YEARLY;BYMONTH=11;BYDAY=1SU
END:STANDARD
END:VTIMEZONE
BEGIN:VEVENT
UID:5283893:Event:71805
DTSTAMP:20260422T171608Z
SUMMARY:FREE Webinar:  Organically Google-- Part II: Sure-Fire Ways th
 at Dealers Can Get to the Top!
DESCRIPTION:Google is currently enjoying a search engine market share 
 around 67% so it should be no surprise to Dealers that it is also the 
 single most important online entity for driving targeted traffic to ca
 r dealer websites. As such, it's fitting that we would have back-to-ba
 ck webinars on the subject just to make sure that dealers have all of 
 the tools necessary to succeed.  With so much information to cover o
 n such an important topic - we had to split up the presentation into t
 wo - but we hope you can attend both to get the full lesson on how mak
 e it to the top of Google. In Part I, we will explore the keys to crea
 ting a balance of onsite and offsite SEO that dealers can control toda
 y. Regardless of which platform you're on, these tips and tricks will 
 minimize your effort and maximize your results. In Part II, we'll go o
 ver keyword research and show you which keywords you should be focused
  on. Not all keywords are created equal and having a nice mix of high-
 volume an long-tail keywords will bring you the best return on your ef
 forts.   PRESENTER: JD Rucker, Director of New Media at TK Carsites,
  is recognized in the industry as the leading authority on Automotive 
 SEO and is a world renowned Social Media expert. He is also the Presid
 ent of Hasai, Inc., a wholly owned subsidiary of TK Carsites. Furtherm
 ore, he has personally optimized over 150 individual websites and coor
 dinated the optimization of over 1,000 websites. Additionally, along w
 ith his active social media presence, article submissions and blog pos
 tings, JD's commentaries on SEO and Digital Marketing can be easily fo
 und on the Internet and on his www.soshable.com. Why register if you c
 annot make it this time: If you are unable to attend the webinar at th
 is time, please register anyway and you will be sent a link to a recor
 ding of the webinar along with the presentation slides.\n\nFor more in
 formation visit https://www.dealerelite.net/events/free-webinar-organi
 cally-1
DTSTART;TZID=America/New_York:20110330T120000
DTEND;TZID=America/New_York:20110330T130000
CATEGORIES:free, webinar
LOCATION:https://www1.gotomeeting.com/register/365219289
WEBSITE:https://www1.gotomeeting.com/register/365219289
URL:https://www1.gotomeeting.com/register/365219289
CONTACT:
ORGANIZER;CN="Eliana Raggio":https://www.dealerelite.net/profile/Elian
 aRaggio
ATTACH;FMTTYPE="image/jpeg":http://storage.ning.com/topology/rest/1.0/
 file/get/2632913234?profile=original
ATTENDEE;ROLE=REQ-PARTICIPANT;PARTSTAT=ACCEPTED;RSVP=TRUE;CN="Eliana R
 aggio":https://www.dealerelite.net/profile/ElianaRaggio
END:VEVENT
END:VCALENDAR
