BEGIN:VCALENDAR
PRODID:NingEventWidget-v1
VERSION:2.0
METHOD:PUBLISH
BEGIN:VTIMEZONE
TZID:America/New_York
X-LIC-LOCATION:America/New_York
BEGIN:DAYLIGHT
TZOFFSETFROM:-0500
TZOFFSETTO:-0400
TZNAME:EDT
DTSTART:19700308T020000
RRULE:FREQ=YEARLY;BYMONTH=3;BYDAY=2SU
END:DAYLIGHT
BEGIN:STANDARD
TZOFFSETFROM:-0400
TZOFFSETTO:-0500
TZNAME:EST
DTSTART:19701101T020000
RRULE:FREQ=YEARLY;BYMONTH=11;BYDAY=1SU
END:STANDARD
END:VTIMEZONE
BEGIN:VEVENT
UID:5283893:Event:71256
DTSTAMP:20260422T204853Z
SUMMARY:FREE Webinar: Organically Google-- Part I: Sure-Fire Ways that
  Dealers Can Get to the Top!
DESCRIPTION:\nGoogle is currently enjoying a search engine market shar
 e around 67% so it should be no surprise to Dealers that it is also th
 e single most important online entity for driving targeted traffic to 
 car dealer websites. As such, it's fitting that we would have back-to-
 back webinars on the subject just to make sure that dealers have all o
 f the tools necessary to succeed.  With so much information to cover
  on such an important topic - we had to split up the presentation into
  two - but we hope you can attend both to get the full lesson on how m
 ake it to the top of Google. In Part I, we will explore the keys to cr
 eating a balance of onsite and offsite SEO that dealers can control to
 day. Regardless of which platform you're on, these tips and tricks wil
 l minimize your effort and maximize your results. In Part II, we'll go
  over keyword research and show you which keywords you should be focus
 ed on. Not all keywords are created equal and having a nice mix of hig
 h-volume an long-tail keywords will bring you the best return on your 
 efforts.   PRESENTER: JD Rucker, Director of New Media at TK Carsite
 s, is recognized in the industry as the leading authority on Automotiv
 e SEO and is a world renowned Social Media expert. He is also the Pres
 ident of Hasai, Inc., a wholly owned subsidiary of TK Carsites. Furthe
 rmore, he has personally optimized over 150 individual websites and co
 ordinated the optimization of over 1,000 websites. Additionally, along
  with his active social media presence, article submissions and blog p
 ostings, JD's commentaries on SEO and Digital Marketing can be easily 
 found on the Internet and on his www.soshable.com. Why register if you
  cannot make it this time: If you are unable to attend the webinar at 
 this time, please register anyway and you will be sent a link to a rec
 ording of the webinar along with the presentation slides.\n\n\n\n\n\nF
 or more information visit https://www.dealerelite.net/events/free-webi
 nar-organically
DTSTART;TZID=America/New_York:20110323T120000
DTEND;TZID=America/New_York:20110323T130000
CATEGORIES:free, webinar
LOCATION:https://www1.gotomeeting.com/register/448494993
WEBSITE:https://www1.gotomeeting.com/register/448494993
URL:https://www1.gotomeeting.com/register/448494993
CONTACT:
ORGANIZER;CN="Eliana Raggio":https://www.dealerelite.net/profile/Elian
 aRaggio
ATTACH;FMTTYPE="image/jpeg":http://storage.ning.com/topology/rest/1.0/
 file/get/2632913234?profile=original
ATTENDEE;ROLE=REQ-PARTICIPANT;PARTSTAT=ACCEPTED;RSVP=TRUE;CN="Eliana R
 aggio":https://www.dealerelite.net/profile/ElianaRaggio
END:VEVENT
END:VCALENDAR
