BEGIN:VCALENDAR
PRODID:NingEventWidget-v1
VERSION:2.0
METHOD:PUBLISH
BEGIN:VTIMEZONE
TZID:America/New_York
X-LIC-LOCATION:America/New_York
BEGIN:DAYLIGHT
TZOFFSETFROM:-0500
TZOFFSETTO:-0400
TZNAME:EDT
DTSTART:19700308T020000
RRULE:FREQ=YEARLY;BYMONTH=3;BYDAY=2SU
END:DAYLIGHT
BEGIN:STANDARD
TZOFFSETFROM:-0400
TZOFFSETTO:-0500
TZNAME:EST
DTSTART:19701101T020000
RRULE:FREQ=YEARLY;BYMONTH=11;BYDAY=1SU
END:STANDARD
END:VTIMEZONE
BEGIN:VEVENT
UID:5283893:Event:51013
DTSTAMP:20260423T222152Z
SUMMARY:FREE Webinar -- Proven Interenet Marketing for Your Fixed Ops
DESCRIPTION:Are you making the most of your Fixed Operations? Doing so
  is often the difference between a dealership’s success or failure. 
 Take the first step in upgrading your dealership’s bottom line. Join
  us as we discuss how to Maximize On-line Exposure for your Fixed Ops 
 Departments. This webinar will share proven internet marketing tactics
  to promote specific departments individually. The results will drive 
 sales, increase gross, generate more quality leads and improve ROI / p
 rofitability for all your profit centers. Additionally, your dealershi
 p will build consumer relations, boost customer loyalty and bring in n
 ew customers. With so many benefits, this is a “can’t miss” even
 t for those who are serious about taking their dealership to the next 
 level.\nPresenter:Andrew Fidelman is the Team Lead for the Dealer Advo
 cate department at TK Carsites. His responsibilities include the ongoi
 ng education and retention of TK Carsites current customer base as wel
 l as managing a Nationwide team of Dealer Advocates. Andrew has been w
 ith TK Carsites for over four years and has been in various roles such
  as a leading National Sales Strategist, West Coast VP of Sales and Sa
 les Coordinator. Andrew draws further experience from his many years i
 n the Banking, Finance and Real Estate industries. Andrew is passionat
 e about customer service and helping the dealership community increase
  revenue and lead generation through their fixed operations department
 s online.\n\nFor more information visit https://www.dealerelite.net/ev
 ents/free-webinar-proven-interenet
DTSTART;TZID=America/New_York:20110202T120000
DTEND;TZID=America/New_York:20110202T130000
CATEGORIES:free, webinar
LOCATION:http://forms.tkcarsites.com/go/tkcarsites/ops-social
WEBSITE:http://forms.tkcarsites.com/go/tkcarsites/ops-social
URL:http://forms.tkcarsites.com/go/tkcarsites/ops-social
CONTACT:
ORGANIZER;CN="Eliana Raggio":https://www.dealerelite.net/profile/Elian
 aRaggio
ATTACH;FMTTYPE="image/jpeg":http://storage.ning.com/topology/rest/1.0/
 file/get/2632911064?profile=original
ATTENDEE;ROLE=REQ-PARTICIPANT;PARTSTAT=ACCEPTED;RSVP=TRUE;CN="Eliana R
 aggio":https://www.dealerelite.net/profile/ElianaRaggio
END:VEVENT
END:VCALENDAR
