BEGIN:VCALENDAR
PRODID:NingEventWidget-v1
VERSION:2.0
METHOD:PUBLISH
BEGIN:VTIMEZONE
TZID:America/New_York
X-LIC-LOCATION:America/New_York
BEGIN:DAYLIGHT
TZOFFSETFROM:-0500
TZOFFSETTO:-0400
TZNAME:EDT
DTSTART:19700308T020000
RRULE:FREQ=YEARLY;BYMONTH=3;BYDAY=2SU
END:DAYLIGHT
BEGIN:STANDARD
TZOFFSETFROM:-0400
TZOFFSETTO:-0500
TZNAME:EST
DTSTART:19701101T020000
RRULE:FREQ=YEARLY;BYMONTH=11;BYDAY=1SU
END:STANDARD
END:VTIMEZONE
BEGIN:VEVENT
UID:5283893:Event:74138
DTSTAMP:20260422T154657Z
SUMMARY:FREE Webinar: QR Codes in Sales and Service
DESCRIPTION:QR Codes in Sales and Service. What is a QR code and why d
 o you want it or need it?  We will review uses for QR codes and we me
 an really great uses that will drive reviews and leads and increase re
 venue in both sales and service! We will also show you how to track th
 e response and more during this quick webinar….we are sharing so muc
 h you should pay us for this one, but we will keep it free this time.\
 nNOTICE: We will be limiting this webinar to the first 707 people, so 
 once it’s full that’s it!\n\nFor more information visit https://ww
 w.dealerelite.net/events/free-webinar-qr-codes-in-sales
DTSTART;TZID=America/New_York:20110331T140000
DTEND;TZID=America/New_York:20110331T143000
CATEGORIES:webinar
LOCATION:Online
WEBSITE:http://exclusivelyautomotive.com/qr-codes-in-sales-and-service
 /
URL:http://exclusivelyautomotive.com/qr-codes-in-sales-and-service/
CONTACT:
ORGANIZER;CN="Paul Potratz":https://www.dealerelite.net/profile/PaulPo
 tratz
ATTACH;FMTTYPE="image/jpeg":http://storage.ning.com/topology/rest/1.0/
 file/get/2632919702?profile=original
ATTENDEE;ROLE=REQ-PARTICIPANT;PARTSTAT=ACCEPTED;RSVP=TRUE;CN="Janell Y
 utrzenka":https://www.dealerelite.net/profile/JanellYutrzenka
ATTENDEE;ROLE=REQ-PARTICIPANT;PARTSTAT=ACCEPTED;RSVP=TRUE;CN="Courtney
  Boone":https://www.dealerelite.net/profile/CourtneyBoone
ATTENDEE;ROLE=REQ-PARTICIPANT;PARTSTAT=ACCEPTED;RSVP=TRUE;CN="Ryan C H
 all":https://www.dealerelite.net/profile/RyanCHall
ATTENDEE;ROLE=REQ-PARTICIPANT;PARTSTAT=ACCEPTED;RSVP=TRUE;CN="Terry A 
 Powell":https://www.dealerelite.net/profile/TerryAPowell
ATTENDEE;ROLE=REQ-PARTICIPANT;PARTSTAT=ACCEPTED;RSVP=TRUE;CN="Paul Pot
 ratz":https://www.dealerelite.net/profile/PaulPotratz
END:VEVENT
END:VCALENDAR
