BEGIN:VCALENDAR
PRODID:NingEventWidget-v1
VERSION:2.0
METHOD:PUBLISH
BEGIN:VTIMEZONE
TZID:America/New_York
X-LIC-LOCATION:America/New_York
BEGIN:DAYLIGHT
TZOFFSETFROM:-0500
TZOFFSETTO:-0400
TZNAME:EDT
DTSTART:19700308T020000
RRULE:FREQ=YEARLY;BYMONTH=3;BYDAY=2SU
END:DAYLIGHT
BEGIN:STANDARD
TZOFFSETFROM:-0400
TZOFFSETTO:-0500
TZNAME:EST
DTSTART:19701101T020000
RRULE:FREQ=YEARLY;BYMONTH=11;BYDAY=1SU
END:STANDARD
END:VTIMEZONE
BEGIN:VEVENT
UID:5283893:Event:503125
DTSTAMP:20260419T134657Z
SUMMARY:FREE WEBINAR: Step Up Your SEM Game with Critical Strategies t
 hat Deliver!
DESCRIPTION:Over the last few years, more dealerships have delved into
  SEM and increased their digital savviness. However, that means the on
 line automotive landscape is now more saturated, the ad space has beco
 me more crowded and listing pages more competitive (and expensive).\nI
 f you’re using the same SEM strategies from even just a year ago, yo
 u’re going to see a diminishing ROI.  And this time, simply throwi
 ng more money at SEM won’t solve the problem.\nYou need to Step Up 
 Your SEM Game with Critical Strategies that Deliver!\nIn this exciting
  1 hour webinar, Sean Stapleton will discuss some of the latest, prov
 en digital marketing strategies and tactics that deliver best-in-class
  results.  These cutting-edge techniques and helpful resources wil
 l make your SEM campaigns easier to manage and improve productivity. 
 Webinar attendees will gain valuable knowledge to ensure your campaig
 ns are effective and relevant. Understanding the mechanics behind the
 se paid search approaches will help prepare your dealership for succe
 ss and will build your competitive advantage!\nAttendees will learn 
 the latest SEM strategies with items such as:\n\nExpanded Text Ads\n\n
 \nNegative Keyword Management\n\n\nCreating highly relevant ads…and 
 so much more!!\n\nThe time to act is NOW!\nCOOKIE CUTTER SEM WON’T S
 EPARATE YOU FROM THE PACK ANYMORE!\nIf you are ready to Step Up Your 
 SEM Game with Critical Strategies that Deliver, then don’t you dare
  miss this presentation! Register now!\nPRESENTER: SEAN STAPLETON is
  the CEO and Co-founder of DealerTeamwork, an award-winning company th
 at creates a significant competitive advantage for dealers with their 
 impressive lineup of first-class solutions. Sean’s storied experienc
 e in the automotive industry (IMS, Who’s Calling, VinSolutions) coup
 led with his extraordinary leadership skills and successful track reco
 rd make him a revered consultant and an esteemed mentor to many. He i
 s widely regarded as an extraordinary sales leader and is also admired
  for his fresh insights and brilliant contributions to several top aut
 omotive trade magazines.  Sean is a popular speaker at numerous autom
 otive events and a highly respected member of the automotive community
  and he can be reached at Sean@DealerTeamwork.com.\n\nFor more inform
 ation visit https://www.dealerelite.net/events/free-webinar-step-up-yo
 ur-sem-game-with-critical-strategies-that
DTSTART;TZID=America/New_York:20170803T120000
DTEND;TZID=America/New_York:20170803T130000
CATEGORIES:webinar, free
LOCATION:http://www.dealeron.com/webinar/step-up-your-sem-game/
WEBSITE:http://www.dealeron.com/webinar/step-up-your-sem-game/
URL:http://www.dealeron.com/webinar/step-up-your-sem-game/
CONTACT:
ORGANIZER;CN="Eliana Raggio":https://www.dealerelite.net/profile/Elian
 aRaggio
ATTACH;FMTTYPE="image/jpeg":http://storage.ning.com/topology/rest/1.0/
 file/get/2633032627?profile=original
ATTENDEE;ROLE=REQ-PARTICIPANT;PARTSTAT=ACCEPTED;RSVP=TRUE;CN="Eliana R
 aggio":https://www.dealerelite.net/profile/ElianaRaggio
END:VEVENT
END:VCALENDAR
