BEGIN:VCALENDAR
PRODID:NingEventWidget-v1
VERSION:2.0
METHOD:PUBLISH
BEGIN:VTIMEZONE
TZID:America/New_York
X-LIC-LOCATION:America/New_York
BEGIN:DAYLIGHT
TZOFFSETFROM:-0500
TZOFFSETTO:-0400
TZNAME:EDT
DTSTART:19700308T020000
RRULE:FREQ=YEARLY;BYMONTH=3;BYDAY=2SU
END:DAYLIGHT
BEGIN:STANDARD
TZOFFSETFROM:-0400
TZOFFSETTO:-0500
TZNAME:EST
DTSTART:19701101T020000
RRULE:FREQ=YEARLY;BYMONTH=11;BYDAY=1SU
END:STANDARD
END:VTIMEZONE
BEGIN:VEVENT
UID:5283893:Event:363230
DTSTAMP:20260423T190445Z
SUMMARY:FREE WEBINAR: Supercharge Your BDC!
DESCRIPTION:Have your current BDC strategies stalled?\nDo you want to 
 increase your dealership’s internet sales?\nIf the answer to one or 
 both of these questions is “yes”, then we have a free 1-hour prese
 ntation that may change your life! In this session, nationally recogni
 zed automotive strategist, Cory Mosley, will share his cutting-edge st
 rategies to swiftly and dramatically increase sales productivity in yo
 ur BDC.\nExplore: -The 4.5 elements of creating a deal -How to create 
 separation as a matter of process -How small changes in language can p
 roduce more call backs and appointments\nDiscover: -The truth about va
 lue -How to create more sales opportunities -How to re-think and re-la
 unch your BDC process for maximum results\nLearn: -The power of T.O.M.
 A. and how you can use it to bring customers back -The key to strong a
 nd consistent follow-up -The 12-point check list for success via email
  and on the phones\nPlus five (5) lucky attendees will receive a free 
 30-minute video coaching strategy session with Cory Mosley himself! Yo
 u have to be on the live broadcast to win!\nIf you’re ready to final
 ly SUPERCHARGE your BDC, then this is one webinar you can’t miss!\nP
 RESENTER: Cory Mosley is President & Founder of Mosley Automotive Trai
 ning, a nationally recognized automotive training & consulting company
  that focuses on Internet sales, “new-school” sales and marketing 
 strategies to profitably attract and retain customers. Before opening 
 Mosley Automotive, Cory spent over 15-years in dealership positions on
  the sales floor, in the BDC, as an Internet Director, and as a GSM. C
 ory has built a strong reputation as a go-to sales strategist, consult
 ant and trainer whose new-school techniques and progressive strategies
  have helped countless dealers build and restructure profitable sales,
  BDC and Internet operations. Cory has been a featured speaker and edu
 cator at every major Automotive event including Digital Dealer, Drive 
 Sales Summit, J.D. Power Internet Roundtable, Digital Marketing Strate
 gies Conference, Industry Summit, and the NADA convention. He is a tra
 iner for the NADA University Learning Hub webinar series and writes th
 e monthly “sales driver” column for F&I and Showroom Magazine and 
 he can be reached at Cory.Mosley@MosleyTraining.com.\n\nFor more infor
 mation visit https://www.dealerelite.net/events/free-webinar-superchar
 ge-your-bdc
DTSTART;TZID=America/New_York:20130418T120000
DTEND;TZID=America/New_York:20130418T130000
CATEGORIES:webinar, free
LOCATION:http://www.dealeron.com/webinar/events/supercharge-your-bdc/
WEBSITE:http://www.dealeron.com/webinar/events/supercharge-your-bdc/
URL:http://www.dealeron.com/webinar/events/supercharge-your-bdc/
CONTACT:
ORGANIZER;CN="Eliana Raggio":https://www.dealerelite.net/profile/Elian
 aRaggio
ATTACH;FMTTYPE="image/jpeg":http://storage.ning.com/topology/rest/1.0/
 file/get/2632972561?profile=original
ATTENDEE;ROLE=REQ-PARTICIPANT;PARTSTAT=ACCEPTED;RSVP=TRUE;CN=jimrichte
 r27:https://www.dealerelite.net/profile/jimrichter27
ATTENDEE;ROLE=REQ-PARTICIPANT;PARTSTAT=ACCEPTED;RSVP=TRUE;CN="Jessica 
 Heusinkveld":https://www.dealerelite.net/profile/JessicaHeusinkveld
ATTENDEE;ROLE=REQ-PARTICIPANT;PARTSTAT=ACCEPTED;RSVP=TRUE;CN="Eliana R
 aggio":https://www.dealerelite.net/profile/ElianaRaggio
END:VEVENT
END:VCALENDAR
