BEGIN:VCALENDAR
PRODID:NingEventWidget-v1
VERSION:2.0
METHOD:PUBLISH
BEGIN:VTIMEZONE
TZID:America/New_York
X-LIC-LOCATION:America/New_York
BEGIN:DAYLIGHT
TZOFFSETFROM:-0500
TZOFFSETTO:-0400
TZNAME:EDT
DTSTART:19700308T020000
RRULE:FREQ=YEARLY;BYMONTH=3;BYDAY=2SU
END:DAYLIGHT
BEGIN:STANDARD
TZOFFSETFROM:-0400
TZOFFSETTO:-0500
TZNAME:EST
DTSTART:19701101T020000
RRULE:FREQ=YEARLY;BYMONTH=11;BYDAY=1SU
END:STANDARD
END:VTIMEZONE
BEGIN:VEVENT
UID:5283893:Event:499940
DTSTAMP:20260422T080320Z
SUMMARY:FREE WEBINAR: Texting Doâ€™s, Donâ€™ts & Compliance
DESCRIPTION:Texting is huge! In fact, it is theÂ preferred primary mea
 ns of communicationÂ among todayâ€™s consumers.Â Â So why donâ€™t more
  dealerships HAVE A TEXTING PROCESS THAT HELPS DRIVE SHOWROOM VISITS A
 ND, ULTIMATELY, MORE CAR SALES?\nWant to learn how toÂ convert your we
 bsite visitors into showroom visits with a solid texting strategy? One
  that initiates inbound texts, assists with legal compliance (you canâ
 €™t afford the risks!) and enables texts to your existing dealership p
 hone numbers? Yeah you do!\nIn this 1 hour webinar, Scott Pechstein is
  going to show us the way to texting nirvana. He will discuss how toÂ 
 track and monitor texting activityÂ and use this information toÂ imple
 ment smart texting sales processes at your dealership.\nAttendees of t
 his fast-paced presentation will learn how to:\nâ€“Engage with consume
 rs by implement texting calls-to-actionÂ across all of their communica
 tions and marketing initiatives\nâ€“Drive inbound texts to increase sh
 owroom visits and increase sales.\nâ€“Protect yourself and your dealer
 ship from unnecessary compliance violations.\nâ€“Text-enable existing 
 landline phone numbers, including main phone numbers, special vanity n
 umbers, service numbers, and call tracking numbers.\nIf you are ready 
 toÂ implement a comprehensive texting strategy at your dealershipÂ and
  want to hear all about theÂ Texting Doâ€™s, Donâ€™ts & Compliance,Â t
 hen this is the MUST-SEE presentation you simply canâ€™t afford to mis
 s! Register Now!\nPresenter: Scott PechsteinÂ is the Vice President of
  Sales at Autobytel Inc., a publicly traded automotive media and marke
 ting company that provides bothÂ dealersÂ andÂ OEMsÂ with highly effec
 tive brand and product promotion opportunities. He is responsible for 
 managing all sales for Autobytelâ€™s top quality new and used car lead
 s, as well as the companyâ€™s full range of industry-leading marketing
  and mobile products. Scott also serves as the lead trainer for the po
 pular Autobytel Dealer Insight Series leveraging his automotive eComme
 rce expertise to provide dealerships with best practices for increasin
 g their sales as well as other valuable information so dealers better 
 understand Internet consumers and the ever-evolving digital marketplac
 e. Additionally, he has presented informative data and sales insights 
 at prominent industry conferences including DrivingSales, Digital Deal
 er and NADA and in various trade media outlets such as Automotive Dige
 st, Auto Remarketing and Auto Success magazines. Scott is a skilled pr
 esenter, a highly respected member of the automotive community and he 
 can be reached at ScottP@Autobytel.com.\n\nFor more information visit 
 https://www.dealerelite.net/events/free-webinar-texting-do-s-don-ts-co
 mpliance
DTSTART;TZID=America/New_York:20170615T120000
DTEND;TZID=America/New_York:20170615T130000
CATEGORIES:webinar, free
LOCATION:http://www.dealeron.com/webinar/texting-dos-donts-compliance/
WEBSITE:http://www.dealeron.com/webinar/texting-dos-donts-compliance/
URL:http://www.dealeron.com/webinar/texting-dos-donts-compliance/
CONTACT:
ORGANIZER;CN="Eliana Raggio":https://www.dealerelite.net/profile/Elian
 aRaggio
ATTACH;FMTTYPE="image/jpeg":http://storage.ning.com/topology/rest/1.0/
 file/get/2633023741?profile=original
ATTENDEE;ROLE=REQ-PARTICIPANT;PARTSTAT=ACCEPTED;RSVP=TRUE;CN="Eliana R
 aggio":https://www.dealerelite.net/profile/ElianaRaggio
END:VEVENT
END:VCALENDAR
