BEGIN:VCALENDAR
PRODID:NingEventWidget-v1
VERSION:2.0
METHOD:PUBLISH
BEGIN:VTIMEZONE
TZID:America/New_York
X-LIC-LOCATION:America/New_York
BEGIN:DAYLIGHT
TZOFFSETFROM:-0500
TZOFFSETTO:-0400
TZNAME:EDT
DTSTART:19700308T020000
RRULE:FREQ=YEARLY;BYMONTH=3;BYDAY=2SU
END:DAYLIGHT
BEGIN:STANDARD
TZOFFSETFROM:-0400
TZOFFSETTO:-0500
TZNAME:EST
DTSTART:19701101T020000
RRULE:FREQ=YEARLY;BYMONTH=11;BYDAY=1SU
END:STANDARD
END:VTIMEZONE
BEGIN:VEVENT
UID:5283893:Event:492861
DTSTAMP:20260424T102532Z
SUMMARY:FREE WEBINAR: The 3 Mistakes Killing Your Online Sales (& How 
 to Fix Them)
DESCRIPTION:If you are like most Dealers, then you spend a lot of tim
 e, money and energy vying for the attention of online car shoppers. H
 owever, the majority of dealers are plagued by 3 LARGE PROBLEMS THAT 
 ARE DOING SERIOUS HARM TO THEIR ONLINE SALES. Fortunately, a little kn
 ow-how can help you avoid these common pitfalls and get you back on 
 the road to closing more internet deals.\nFamed automotive retail exp
 ert, Cory Mosley, is known for offering real-world advice that is al
 ways on target and in this eye-opening 1 hour webinar, he will discuss
  the 3 major problems that are costing you deals with Internet shoppe
 rs. This comprehensive presentation will take a deep dive into these p
 roblems and then offer practical and actionable strategies to overco
 me these challenges so you can maximize your lead to sale conversion 
 rate.\nAttendees will leave this training with a fresh perspective on
  lead conversion and a plan to close the gaps in their current proces
 s. Attendees of the live broadcast will also receive critical help f
 rom the Internet Sales Rapid Assessment worksheet.\nTake your internet
  sales to the next level! Don’t miss this chance to see one of the 
 most impressive members of the automotive community as he discusses T
 he 3 Mistakes Killing Your Online Sales (& How to Fix Them)! Register
  now!\nPRESENTER: CORY MOSLEY, CSP is the Principal of Mosley Automoti
 ve and a proven leader in transforming dealerships. A go-to strategist
  and progressive retail expert, Cory looks beyond simple solutions to 
 help his clients uncover and correct complex issues that drive custome
 r satisfaction, accelerate sales and fuel profitability. Over the past
  18 years, Cory has been featured at every major automotive conference
  including Driving Sales, J.D. Powers, NADA, and was the first Interne
 t Sales Expert to keynote the Digital Dealer Conference. In addition t
 o his more than 18-year Sales & Consulting career, he is also the auth
 or of The Way I See It, Thoughts, Commentary, and Musings of a Retail 
 Car Guy and hosts the show “Progressive Retail with Cory Mosley” o
 n the CBT Automotive Network. He can be reached at cm@corymosley.com.\
 n\nFor more information visit https://www.dealerelite.net/events/free-
 webinar-the-3-mistakes-killing-your-online-sales-how-to-fi-1
DTSTART;TZID=America/New_York:20170216T120000
DTEND;TZID=America/New_York:20170216T130000
CATEGORIES:webinar, free
LOCATION:http://www.dealeron.com/webinar/3-mistakes-killing-online-sal
 es-fix/
WEBSITE:http://www.dealeron.com/webinar/3-mistakes-killing-online-sale
 s-fix/
URL:http://www.dealeron.com/webinar/3-mistakes-killing-online-sales-fi
 x/
CONTACT:
ORGANIZER;CN="Eliana Raggio":https://www.dealerelite.net/profile/Elian
 aRaggio
ATTACH;FMTTYPE="image/jpeg":http://storage.ning.com/topology/rest/1.0/
 file/get/2633029014?profile=original
ATTENDEE;ROLE=REQ-PARTICIPANT;PARTSTAT=ACCEPTED;RSVP=TRUE;CN="Eliana R
 aggio":https://www.dealerelite.net/profile/ElianaRaggio
END:VEVENT
END:VCALENDAR
