BEGIN:VCALENDAR
PRODID:NingEventWidget-v1
VERSION:2.0
METHOD:PUBLISH
BEGIN:VTIMEZONE
TZID:America/New_York
X-LIC-LOCATION:America/New_York
BEGIN:DAYLIGHT
TZOFFSETFROM:-0500
TZOFFSETTO:-0400
TZNAME:EDT
DTSTART:19700308T020000
RRULE:FREQ=YEARLY;BYMONTH=3;BYDAY=2SU
END:DAYLIGHT
BEGIN:STANDARD
TZOFFSETFROM:-0400
TZOFFSETTO:-0500
TZNAME:EST
DTSTART:19701101T020000
RRULE:FREQ=YEARLY;BYMONTH=11;BYDAY=1SU
END:STANDARD
END:VTIMEZONE
BEGIN:VEVENT
UID:5283893:Event:491428
DTSTAMP:20260425T085247Z
SUMMARY:FREE WEBINAR -- The Amazing SEM & SEO Show Starring the Beard 
 & the Hair
DESCRIPTION:For the final DealerOn webinar of 2016, only the BEST will
  do!\nDealerOn’s very own Greg Gifford (“the Beard”) and Shaun R
 aines (“the Hair”) will close out this year’s webinar series wit
 h a high energy dual presentation on SEO and SEM. (They recently pres
 ented in tandem at the Driving Sales Executive Summit, and the crowd w
 ent wild!)\nThis outstanding 1 hour webinar is in a fast-paced game sh
 ow format where these two experts will alternate back and forth with 
 detailed answers to 5 critical SEM questions and 5 crucial SEO questio
 ns. Attendees of this unique presentation will learn the latest updat
 es in both AdWords and Google’s organic search results.\nThis webina
 r will have everything you need to know about SEO & SEM to rock the N
 ew Year!Shaun will cover PPC; explaining how to optimize your digital
  marketing accounts and hold your vendors accountable. Greg will shar
 e the latest info on Local SEO; what’s changed, what’s important,
  and how to optimize your site for better local visibility.\nTHIS IS 
 AN HOUR OF AUTOMOTIVE AWESOMENESS THAT YOU SIMPLY CAN’T MISS!!\nMark
  your calendars as we end this year’s DealerOn Webinar Series on a h
 igh note! Register now for The Amazing SEM & SEO Show — Starring th
 e Beard & the Hair!\nPRESENTER: GREG GIFFORD (“the Beard”) is the
  Director of Search and Social at DealerOn. He’s got over 15 years 
 of online marketing and web design experience, and has specialized in
  automotive SEO for the last 5 years helping hundreds of auto dealers 
 thrive while the industry has struggled during the recession. Greg sp
 eaks internationally at both automotive and SEO conferences, teaching 
 thousands of small business owners and marketers how to get their site
 s to show up higher in local search rankings. He is an international S
 EO speaker, and currently serves as a member of the Board of Directors
  for the DFWSEM, an organization dedicated to promoting search engine 
 marketing through best practices. He graduated from Southern Methodis
 t University with a BA in Cinema and Communications, and has an obscur
 e movie quote for just about any situation. and Greg can be reached at
  GGifford@DealerOn.com. Joining Greg is SHAUN RAINES (“the Hair”
 ) is the Vice President of Business Development at DealerOn. A true In
 ternet car guy, his automotive Internet career began in 1998 with the 
 Reynolds and Reynolds team that launched Microsoft’s CarPoint.com, C
 arsDirect Connect, Yahoo Autos, Automark Websites and Reynolds Web Sol
 utions. His unique blend of humor and automotive experience has made R
 aines a sought after speaker at industry events including NADA, NCM, D
 igital Dealer and 20 Groups. Shaun is a highly respected member of the
  Automotive community and he can be reached at Shaun@DealerOn.com.\n\n
 For more information visit https://www.dealerelite.net/events/free-web
 inar-the-amazing-sem-seo-show-starring-the-beard-the-hair
DTSTART;TZID=America/New_York:20161222T120000
DTEND;TZID=America/New_York:20161222T130000
CATEGORIES:webinar, free
LOCATION:http://www.dealeron.com/webinar/amazing-sem-seo-show-starring
 -beard-hair/
WEBSITE:http://www.dealeron.com/webinar/amazing-sem-seo-show-starring-
 beard-hair/
URL:http://www.dealeron.com/webinar/amazing-sem-seo-show-starring-bear
 d-hair/
CONTACT:
ORGANIZER;CN="Eliana Raggio":https://www.dealerelite.net/profile/Elian
 aRaggio
ATTACH;FMTTYPE="image/jpeg":http://storage.ning.com/topology/rest/1.0/
 file/get/2633033276?profile=original
ATTENDEE;ROLE=REQ-PARTICIPANT;PARTSTAT=ACCEPTED;RSVP=TRUE;CN="Eliana R
 aggio":https://www.dealerelite.net/profile/ElianaRaggio
END:VEVENT
END:VCALENDAR
