BEGIN:VCALENDAR
PRODID:NingEventWidget-v1
VERSION:2.0
METHOD:PUBLISH
BEGIN:VTIMEZONE
TZID:America/New_York
X-LIC-LOCATION:America/New_York
BEGIN:DAYLIGHT
TZOFFSETFROM:-0500
TZOFFSETTO:-0400
TZNAME:EDT
DTSTART:19700308T020000
RRULE:FREQ=YEARLY;BYMONTH=3;BYDAY=2SU
END:DAYLIGHT
BEGIN:STANDARD
TZOFFSETFROM:-0400
TZOFFSETTO:-0500
TZNAME:EST
DTSTART:19701101T020000
RRULE:FREQ=YEARLY;BYMONTH=11;BYDAY=1SU
END:STANDARD
END:VTIMEZONE
BEGIN:VEVENT
UID:5283893:Event:500665
DTSTAMP:20260422T045429Z
SUMMARY:FREE WEBINAR: The Secret Sauce for Internet Success!
DESCRIPTION:The vast majority of dealerships wrestle with how to achie
 ve improved Internet Sales results.\nWhich got us wonderingâ€¦IS THERE
  A SECRET SAUCE FOR INTERNET SUCCESS?\nAutomotive trainer David Kain s
 aysÂ heck yeah there is!Â In fact,Â the secret to swift & dramatic suc
 cess may already be in your dealership right now.Â \nIn this brilliant
  1 hour webinar, David will shareÂ The Secret Sauce for Internet Succe
 ss!\nThroughout his extensive career, David has studied Industry Leadi
 ng Sales Managers and how theyÂ steer Internet Operations to market do
 minance and sustained profitabilityâ€¦and heâ€™s ready to share the go
 ods with you. David will demonstrate theÂ critical communication tacti
 cs and proven management strategies used by the very best in the indus
 tryÂ that will get youÂ exceptionalÂ resultsâ€¦and a bigger bottom lin
 e.\nThis is a Must-See Hour of Automotive Awesomeness!\nAre you ready 
 to learnÂ The Secret Sauce for Internet Success?Â Then you simply canâ
 €™t afford to miss this amazing presentation! Register now!\nPRESENTER
 :Â David KainÂ is President ofÂ KainAutomotive.com, an award-winning t
 raining/consulting company that specializes in Automotive Internet Sal
 es,Â BDCâ€™s,Â Digital MarketingÂ andÂ Social Media with a focusÂ on i
 mproving dealership sales and profits. Notably, Kain Automotive was vo
 ted Best Internet Sales TrainingÂ Company for the last 5 years in a ro
 w in the Dealerâ€™s Choice awards byÂ Auto Dealer MonthlyÂ Magazine. D
 avid Kain has 20 years of extensive automotive retail experience and a
 lso co-founded FordDirect.com, a dealer/factory owned joint venture th
 at provides the Internet leads to Ford and LincolnÂ dealers. David is 
 an active speaker at many industry events including NADA Conventions, 
 State Association Workshops, Digital Dealer Conferences and Manufactur
 er Training Conferences as well as numerous 20 Groups and can be reach
 ed at David@KainAutomotive.com.\n\nFor more information visit https://
 www.dealerelite.net/events/free-webinar-the-secret-sauce-for-internet-
 success
DTSTART;TZID=America/New_York:20170622T120000
DTEND;TZID=America/New_York:20170622T130000
CATEGORIES:webinar, free
LOCATION:http://www.dealeron.com/webinar/secret-sauce-internet-success
 /
WEBSITE:http://www.dealeron.com/webinar/secret-sauce-internet-success/
URL:http://www.dealeron.com/webinar/secret-sauce-internet-success/
CONTACT:
ORGANIZER;CN="Eliana Raggio":https://www.dealerelite.net/profile/Elian
 aRaggio
ATTACH;FMTTYPE="image/jpeg":http://storage.ning.com/topology/rest/1.0/
 file/get/2632999762?profile=original
ATTENDEE;ROLE=REQ-PARTICIPANT;PARTSTAT=ACCEPTED;RSVP=TRUE;CN="Eliana R
 aggio":https://www.dealerelite.net/profile/ElianaRaggio
END:VEVENT
END:VCALENDAR
