BEGIN:VCALENDAR
PRODID:NingEventWidget-v1
VERSION:2.0
METHOD:PUBLISH
BEGIN:VTIMEZONE
TZID:America/New_York
X-LIC-LOCATION:America/New_York
BEGIN:DAYLIGHT
TZOFFSETFROM:-0500
TZOFFSETTO:-0400
TZNAME:EDT
DTSTART:19700308T020000
RRULE:FREQ=YEARLY;BYMONTH=3;BYDAY=2SU
END:DAYLIGHT
BEGIN:STANDARD
TZOFFSETFROM:-0400
TZOFFSETTO:-0500
TZNAME:EST
DTSTART:19701101T020000
RRULE:FREQ=YEARLY;BYMONTH=11;BYDAY=1SU
END:STANDARD
END:VTIMEZONE
BEGIN:VEVENT
UID:5283893:Event:367119
DTSTAMP:20260423T091917Z
SUMMARY:FREE Webinar: The Top 10 Mistakes You’re Making with Your Di
 gital Marketing
DESCRIPTION:As the digital landscape changes at ever-increasing speed,
  numerous online mistakes are being made by dealerships all over the c
 ountry at an even quicker pace. Too often these errors are preventable
 , readily documented online, and, unfortunately negatively affect the 
 bottom line.\nThe good news??? Most of them have easy fixes that will 
 bring swift results!\nIn this 1-hour webinar, Gary May will discuss th
 e 10 biggest mistakes you’re probably making right now and how to re
 medy them. Join us armed with your questions and concerns – from Goo
 gle Places to Search Engine Optimization (SEO), Video to Facebook and 
 websites to paid search. The top 10 digital marketing mistakes that ar
 e keeping you from attracting more customers will be revealed, explain
 ed…and solved.\nIf you are ready to eliminate those costly errors an
 d drastically improve results, then this is a must-see presentation yo
 u can’t afford to miss!\nPRESENTER: Gary May launched IM@CS in 2007 
 with a focus on helping dealerships and OEMs with digital marketing, e
 Commerce, process and branding. The company also added social media ma
 nagement and sales training in 2008. Focusing on best practices for ma
 rketing and lead management, Gary’s passion for businesses in the au
 tomotive space coincides with his no-holds barred approach to business
  management. Featured as a speaker at automotive events including Driv
 ingSales, JD Power & Associates and PCG, a regular blogger and recogni
 zed dealer advocate, he and his company focus their strengths and atte
 ntion on making progressive dealerships unique in a time where there a
 re more constraints being enforced, limiting franchises. Gary is an av
 id traveler and cyclist and can be reached at Gary@imacsweb.com.\n\nFo
 r more information visit https://www.dealerelite.net/events/free-webin
 ar-the-top-10-mistakes-you-re-making-with-your-digital
DTSTART;TZID=America/New_York:20130502T120000
DTEND;TZID=America/New_York:20130502T130000
CATEGORIES:webinar, free
LOCATION:http://www.dealeron.com/webinar/events/the-top-10-mistakes-yo
 ure-making-with-your-digital-marketing/
WEBSITE:http://www.dealeron.com/webinar/events/the-top-10-mistakes-you
 re-making-with-your-digital-marketing/
URL:http://www.dealeron.com/webinar/events/the-top-10-mistakes-youre-m
 aking-with-your-digital-marketing/
CONTACT:
ORGANIZER;CN="Eliana Raggio":https://www.dealerelite.net/profile/Elian
 aRaggio
ATTACH;FMTTYPE="image/jpeg":http://storage.ning.com/topology/rest/1.0/
 file/get/2632971958?profile=original
ATTENDEE;ROLE=REQ-PARTICIPANT;PARTSTAT=ACCEPTED;RSVP=TRUE;CN="Kathy La
 Rosa":https://www.dealerelite.net/profile/KathyLaRosa
ATTENDEE;ROLE=REQ-PARTICIPANT;PARTSTAT=ACCEPTED;RSVP=TRUE;CN="Josh Tow
 ns":https://www.dealerelite.net/profile/JoshTowns
ATTENDEE;ROLE=REQ-PARTICIPANT;PARTSTAT=ACCEPTED;RSVP=TRUE;CN="Eliana R
 aggio":https://www.dealerelite.net/profile/ElianaRaggio
ATTENDEE;ROLE=REQ-PARTICIPANT;PARTSTAT=TENTATIVE;RSVP=TRUE;CN="Elmer K
 ruys":https://www.dealerelite.net/profile/ElmerKruys
ATTENDEE;ROLE=REQ-PARTICIPANT;PARTSTAT=TENTATIVE;RSVP=TRUE;CN="David S
 harp":https://www.dealerelite.net/profile/DavidSharp
ATTENDEE;ROLE=REQ-PARTICIPANT;PARTSTAT=TENTATIVE;RSVP=TRUE;CN="Nicole 
 Johnson":https://www.dealerelite.net/profile/NicoleJohnson
END:VEVENT
END:VCALENDAR
