BEGIN:VCALENDAR
PRODID:NingEventWidget-v1
VERSION:2.0
METHOD:PUBLISH
BEGIN:VTIMEZONE
TZID:America/New_York
X-LIC-LOCATION:America/New_York
BEGIN:DAYLIGHT
TZOFFSETFROM:-0500
TZOFFSETTO:-0400
TZNAME:EDT
DTSTART:19700308T020000
RRULE:FREQ=YEARLY;BYMONTH=3;BYDAY=2SU
END:DAYLIGHT
BEGIN:STANDARD
TZOFFSETFROM:-0400
TZOFFSETTO:-0500
TZNAME:EST
DTSTART:19701101T020000
RRULE:FREQ=YEARLY;BYMONTH=11;BYDAY=1SU
END:STANDARD
END:VTIMEZONE
BEGIN:VEVENT
UID:5283893:Event:372176
DTSTAMP:20260422T193507Z
SUMMARY:FREE WEBINAR: The Top 5 Ways to Make Your Dealership More Succ
 essful
DESCRIPTION:Be honest — Is your dealership as successful as it could
  be?\nMarc McGurren travels the country for PCG Consulting working wit
 h dealers to improve their Internet, BDC, and Digital Marketing depart
 ments. He has discovered the resonating themes that Dealer Principles,
  GM’s, Sales Managers, and Internet/BDC Directors struggle with on a
  daily basis. He knows why some dealerships struggle and flounder whil
 e others achieve greatness. He also knows what can turn your dealershi
 p into a truly elite money-making enterprise.\nIn this 1 hour webinar,
  Marc will dive into proven insights that you can implement immediatel
 y. He will show you how to avoid mistakes he continues to see all acro
 ss the country and he will discuss what makes a great dealership — a
 nd how great dealerships stay great. Most importantly, he will give yo
 u tools to help your team sell more cars.\nIf you want to learn 5 diff
 erent ways you can make your dealership more successful, then this is 
 a webinar you simply can’t afford to miss!\nPRESENTER: Marc McGurren
  is the Chief Digital Warrior at PCG Consulting Inc. Before that, as t
 he Internet Director for the Jerry Durant Auto Group located in Weathe
 rford, TX, Marc had more than 8 years of automotive experience he has 
 held positions that range from salesperson, sales manager, finance man
 ager, asst. service & parts director and GM. His passion and desire to
  execute digital marketing strategies is contagious and his track reco
 rd of “you can’t fix what you don’t know” helped the Jerry Dur
 ant Auto Group have the best year in 42 years and sell over 10,800 car
 s in 2011. He is a regular contributor and former community editor for
  Drivingsales.com, speaker at multiple automotive conferences includin
 g the Digital Warrior Academy, Digital Marketing Strategies Conference
 , CADA Innovative Summit, Digital Dealer Workshops & Driving Sales Exe
 cutive Summit. Marc is an avid traveler and writer and can be reached 
 at Marc@PCGmailer.com.\n\nFor more information visit https://www.deale
 relite.net/events/free-webinar-the-top-5-ways-to-make-your-dealership-
 more
DTSTART;TZID=America/New_York:20130530T120000
DTEND;TZID=America/New_York:20130530T130000
CATEGORIES:webinar, free
LOCATION:http://www.dealeron.com/webinar/events/the-top-5-ways-to-make
 -your-dealership-more-successful/
WEBSITE:http://www.dealeron.com/webinar/events/the-top-5-ways-to-make-
 your-dealership-more-successful/
URL:http://www.dealeron.com/webinar/events/the-top-5-ways-to-make-your
 -dealership-more-successful/
CONTACT:
ORGANIZER;CN="Eliana Raggio":https://www.dealerelite.net/profile/Elian
 aRaggio
ATTACH;FMTTYPE="image/jpeg":http://storage.ning.com/topology/rest/1.0/
 file/get/2632963873?profile=original
ATTENDEE;ROLE=REQ-PARTICIPANT;PARTSTAT=ACCEPTED;RSVP=TRUE;CN="Eliana R
 aggio":https://www.dealerelite.net/profile/ElianaRaggio
END:VEVENT
END:VCALENDAR
