BEGIN:VCALENDAR
PRODID:NingEventWidget-v1
VERSION:2.0
METHOD:PUBLISH
BEGIN:VTIMEZONE
TZID:America/New_York
X-LIC-LOCATION:America/New_York
BEGIN:DAYLIGHT
TZOFFSETFROM:-0500
TZOFFSETTO:-0400
TZNAME:EDT
DTSTART:19700308T020000
RRULE:FREQ=YEARLY;BYMONTH=3;BYDAY=2SU
END:DAYLIGHT
BEGIN:STANDARD
TZOFFSETFROM:-0400
TZOFFSETTO:-0500
TZNAME:EST
DTSTART:19701101T020000
RRULE:FREQ=YEARLY;BYMONTH=11;BYDAY=1SU
END:STANDARD
END:VTIMEZONE
BEGIN:VEVENT
UID:5283893:Event:68418
DTSTAMP:20260423T035437Z
SUMMARY:From Here to Velocity Webinar, Presented by Dale Pollak
DESCRIPTION:In this webinar, Dale Pollak will examine how the pursuit 
 of traditional used car performance objectives is hurting the used veh
 icle department and prepare dealers to position themselves for success
  in both the physical and virtual realms.  Techniques will be presen
 ted which are essential in today’s transparent marketplace to transf
 orm dealership sales processes to maximize total gross and drive botto
 m-line results.\n \nTime: Noon Eastern\nRegister Here\n\nFor more inf
 ormation visit https://www.dealerelite.net/events/from-here-to-velocit
 y-webinar
DTSTART;TZID=America/New_York:20110316T120000
DTEND;TZID=America/New_York:20110316T130000
CATEGORIES:webinar, -, no, charge
LOCATION:Online
WEBSITE:http://www.dalepollak.com/2011/03/08/webinar-velocity-presente
 d-dale-pollak/
URL:http://www.dalepollak.com/2011/03/08/webinar-velocity-presented-da
 le-pollak/
CONTACT:
ORGANIZER;CN="Ed Brooks":https://www.dealerelite.net/profile/EdBrooks
ATTACH;FMTTYPE="image/jpeg":http://storage.ning.com/topology/rest/1.0/
 file/get/2632908880?profile=original
ATTENDEE;ROLE=REQ-PARTICIPANT;PARTSTAT=ACCEPTED;RSVP=TRUE;CN="Ed Brook
 s":https://www.dealerelite.net/profile/EdBrooks
END:VEVENT
END:VCALENDAR
