BEGIN:VCALENDAR
PRODID:NingEventWidget-v1
VERSION:2.0
METHOD:PUBLISH
BEGIN:VTIMEZONE
TZID:America/New_York
X-LIC-LOCATION:America/New_York
BEGIN:DAYLIGHT
TZOFFSETFROM:-0500
TZOFFSETTO:-0400
TZNAME:EDT
DTSTART:19700308T020000
RRULE:FREQ=YEARLY;BYMONTH=3;BYDAY=2SU
END:DAYLIGHT
BEGIN:STANDARD
TZOFFSETFROM:-0400
TZOFFSETTO:-0500
TZNAME:EST
DTSTART:19701101T020000
RRULE:FREQ=YEARLY;BYMONTH=11;BYDAY=1SU
END:STANDARD
END:VTIMEZONE
BEGIN:VEVENT
UID:5283893:Event:355165
DTSTAMP:20260425T065343Z
SUMMARY:Fusion Marketing - It’s What’s Next!
DESCRIPTION:Traditional Marketing + Digital Marketing + Social Media M
 arketing = Fusion Marketing\nWednesday March 6, 2013, 12:00pm Eastern 
 Time\nIf you are still calling yourself a “Social Media Expert” th
 en you’re announcing to the world that you have been left behind. If
  you’re an expert in Facebook and Twitter, then you’re trying to b
 uild an entire marketing strategy restricted to using only one or two 
 tools available. Facebook is not a strategy. Twitter is not a strategy
 . If you’re still stuck looking at social media as a stand-alone mar
 keting technology, then you’ve been left behind. \nThe Fusion Marke
 ting Bible is the next generation of marketing that brings our 6,000 y
 ears of traditional marketing, the exciting digital marketing tools of
  the Internet, and social media and fully integrates them into one sea
 mless tool set that will accomplish every objective you set! The Fusi
 on Marketing Bible isn’t just about integration; it’s such a total
 ly new concept of “Interconnecting” all of your traditional and di
 gital tools that it has been accepted by the United States Patent & Tr
 ademark Office as “Patent Pending”. The Fusion Marketing Bible is 
 about looking at all of your tools, campaigns, objectives, and convers
 ion strategies first in two-dimensions, then taking your entire market
 ing strategies into the world of three-dimensions. This allows you to 
 look at everything you do in marketing in a completely different way..
 . Three-D! Learn more about The Fusion Marketing Bible now #3 on Amaz
 on, from Lon Safko, the author of the internationally best-selling boo
 k; The Social Media Bible, #1 on Amazon. Members Only Offer: www.Deal
 erWebinars.com Members will receive a free copy of The Fusion Marketin
 g Bible after attending this webinar. Become a member for free at http
 ://www.dealerwebinars.com/become-a-member.html\nPresented by: Lon Sa
 fko, Social Media Author, Speaker, Strategist & Futurist.\n\nLon Safk
 o is an innovator and professional speaker with over 25 years of exper
 ience in entrepreneurship, marketing, sales, strategic partnering, spe
 aking, training, writing, and e-commerce. He is the founder of 14 succ
 essful companies, including Paper Models, Inc., holds 3 patents for In
 ternet advertising, has 18 inventions and more than 30,000 personal re
 cords as part of the permanent collection of the Smithsonian Instituti
 on in Washington, D.C. and is the inventor of the “First Computer To
  Save A Human Life”.\n\nFor more information visit https://www.deale
 relite.net/events/fusion-marketing-it-s-what-s-next
DTSTART;TZID=America/New_York:20130306T090000
DTEND;TZID=America/New_York:20130306T100000
CATEGORIES:webinar
LOCATION:http://www.dealerwebinars.com/fusion?ch=social
WEBSITE:http://www.dealerwebinars.com/fusion?ch=social
URL:http://www.dealerwebinars.com/fusion?ch=social
CONTACT:
ORGANIZER;CN="Patric Timmermans":https://www.dealerelite.net/profile/P
 atricTimmermans
ATTACH;FMTTYPE="image/jpeg":http://storage.ning.com/topology/rest/1.0/
 file/get/2632965996?profile=original
ATTENDEE;ROLE=REQ-PARTICIPANT;PARTSTAT=ACCEPTED;RSVP=TRUE;CN="Patric T
 immermans":https://www.dealerelite.net/profile/PatricTimmermans
END:VEVENT
END:VCALENDAR
