BEGIN:VCALENDAR
PRODID:NingEventWidget-v1
VERSION:2.0
METHOD:PUBLISH
BEGIN:VTIMEZONE
TZID:America/New_York
X-LIC-LOCATION:America/New_York
BEGIN:DAYLIGHT
TZOFFSETFROM:-0500
TZOFFSETTO:-0400
TZNAME:EDT
DTSTART:19700308T020000
RRULE:FREQ=YEARLY;BYMONTH=3;BYDAY=2SU
END:DAYLIGHT
BEGIN:STANDARD
TZOFFSETFROM:-0400
TZOFFSETTO:-0500
TZNAME:EST
DTSTART:19701101T020000
RRULE:FREQ=YEARLY;BYMONTH=11;BYDAY=1SU
END:STANDARD
END:VTIMEZONE
BEGIN:VEVENT
UID:5283893:Event:230971
DTSTAMP:20260419T203208Z
SUMMARY:G+ Hangout Autodealertarget Roundtable with special guest
DESCRIPTION:Join AutoDealerTarget RoundTable G+ Hangout | Special gues
 t: Dennis McGinn, CEO (http://rapidrecon.com) for invite http://ning.
 it/nmkYUR\n\nFor more information visit https://www.dealerelite.net/ev
 ents/g-hangout-autodealertarget-roundtable-with-special-guest
DTSTART;TZID=America/New_York:20111011T220000
DTEND;TZID=America/New_York:20111011T230000
CATEGORIES:"g+", hangout, and, livestream
LOCATION:johnmillersc@gmail.com or tk1872@gmail.com Must add to Google
  Circles to Join
WEBSITE:http://www.autodealertarget.com/roundtable
URL:http://www.autodealertarget.com/roundtable
CONTACT:864-254-8012 or 864-552-1348
ORGANIZER:John Miller, Tom Kain, & AutoDealerTarget Broadcast Team
ATTACH;FMTTYPE="image/jpeg":
ATTENDEE;ROLE=REQ-PARTICIPANT;PARTSTAT=ACCEPTED;RSVP=TRUE;CN="Philip Z
 elinger":https://www.dealerelite.net/profile/PhilipZelinger
ATTENDEE;ROLE=REQ-PARTICIPANT;PARTSTAT=ACCEPTED;RSVP=TRUE;CN="John Mil
 ler":https://www.dealerelite.net/profile/JohnMiller
END:VEVENT
END:VCALENDAR
