BEGIN:VCALENDAR
PRODID:NingEventWidget-v1
VERSION:2.0
METHOD:PUBLISH
BEGIN:VTIMEZONE
TZID:America/New_York
X-LIC-LOCATION:America/New_York
BEGIN:DAYLIGHT
TZOFFSETFROM:-0500
TZOFFSETTO:-0400
TZNAME:EDT
DTSTART:19700308T020000
RRULE:FREQ=YEARLY;BYMONTH=3;BYDAY=2SU
END:DAYLIGHT
BEGIN:STANDARD
TZOFFSETFROM:-0400
TZOFFSETTO:-0500
TZNAME:EST
DTSTART:19701101T020000
RRULE:FREQ=YEARLY;BYMONTH=11;BYDAY=1SU
END:STANDARD
END:VTIMEZONE
BEGIN:VEVENT
UID:5283893:Event:366684
DTSTAMP:20260423T003143Z
SUMMARY:Get Off the Service Treadmill*
DESCRIPTION:Are you trying to recapture lost customers with express se
 rvice and discount coupons? Then offering more coupons and deeper disc
 ounts when that doesn't work? If that strategy is not working attend t
 his webinar to give your service department the strategy it needs to r
 etain more customers today, while boosting your Service Department pro
 fits! Cost: $59 thru 5/3 - then $99\n\nFind our more and register at 
 www.autonews.com/webinar05162013\n\nFor more information visit https:/
 /www.dealerelite.net/events/get-off-the-service-treadmill
DTSTART;TZID=America/New_York:20130516T140000
DTEND;TZID=America/New_York:20130516T150000
CATEGORIES:webinar
LOCATION:Online
WEBSITE:http://www.autonews.com/webinar05162013
URL:http://www.autonews.com/webinar05162013
CONTACT:
ORGANIZER;CN="Sarah Gorajek":https://www.dealerelite.net/profile/Sarah
 Gorajek
ATTACH;FMTTYPE="image/jpeg":http://storage.ning.com/topology/rest/1.0/
 file/get/2632953427?profile=original
ATTENDEE;ROLE=REQ-PARTICIPANT;PARTSTAT=ACCEPTED;RSVP=TRUE;CN="Sarah Go
 rajek":https://www.dealerelite.net/profile/SarahGorajek
END:VEVENT
END:VCALENDAR
