BEGIN:VCALENDAR
PRODID:NingEventWidget-v1
VERSION:2.0
METHOD:PUBLISH
BEGIN:VTIMEZONE
TZID:America/New_York
X-LIC-LOCATION:America/New_York
BEGIN:DAYLIGHT
TZOFFSETFROM:-0500
TZOFFSETTO:-0400
TZNAME:EDT
DTSTART:19700308T020000
RRULE:FREQ=YEARLY;BYMONTH=3;BYDAY=2SU
END:DAYLIGHT
BEGIN:STANDARD
TZOFFSETFROM:-0400
TZOFFSETTO:-0500
TZNAME:EST
DTSTART:19701101T020000
RRULE:FREQ=YEARLY;BYMONTH=11;BYDAY=1SU
END:STANDARD
END:VTIMEZONE
BEGIN:VEVENT
UID:5283893:Event:332169
DTSTAMP:20260423T082919Z
SUMMARY:Get Rid of It - Waste Management for Dealers
DESCRIPTION:“Green”, Clean and In Compliance - practical advice fo
 r waste management at auto dealerships.\nFree Webinar Thursday Novembe
 r 1, 2012, 10:00am Mountain Time\nLearn the DO′s and DON′TS of was
 te management for dealerships. Join Hannah Crawford, a former EPA insp
 ector and KPA engineer as she discusses waste streams at a typical dea
 lership; how to determine if a waste is hazardous, how to correctly co
 ntain and dispose of waste, and paperwork you must maintain for all wa
 stes. Practical advice to ensure your waste management practices are 
 green”, clean, and in compliance with state and federal regulation
 s.\nPresented by: Hannah Crawford, Team Leader, KPA\n\nHannah join
 ed KPA four years ago straight from the Florida Department of Environm
 ental Protection. Hannah has 10 years of experience working for the st
 ate of Florida in various capacities and has extensive experience as a
  hazardous waste inspector.\n\nFor more information visit https://www.
 dealerelite.net/events/get-rid-of-it-waste-management-for-dealers
DTSTART;TZID=America/New_York:20121101T090000
DTEND;TZID=America/New_York:20121101T100000
CATEGORIES:webinar
LOCATION:http://www.dealerwebinars.com/wastemanagement?ch=social
WEBSITE:http://www.dealerwebinars.com/wastemanagement?ch=social
URL:http://www.dealerwebinars.com/wastemanagement?ch=social
CONTACT:
ORGANIZER;CN="Patric Timmermans":https://www.dealerelite.net/profile/P
 atricTimmermans
ATTACH;FMTTYPE="image/jpeg":http://storage.ning.com/topology/rest/1.0/
 file/get/2632941097?profile=original
ATTENDEE;ROLE=REQ-PARTICIPANT;PARTSTAT=ACCEPTED;RSVP=TRUE;CN="Patric T
 immermans":https://www.dealerelite.net/profile/PatricTimmermans
END:VEVENT
END:VCALENDAR
