BEGIN:VCALENDAR
PRODID:NingEventWidget-v1
VERSION:2.0
METHOD:PUBLISH
BEGIN:VTIMEZONE
TZID:America/New_York
X-LIC-LOCATION:America/New_York
BEGIN:DAYLIGHT
TZOFFSETFROM:-0500
TZOFFSETTO:-0400
TZNAME:EDT
DTSTART:19700308T020000
RRULE:FREQ=YEARLY;BYMONTH=3;BYDAY=2SU
END:DAYLIGHT
BEGIN:STANDARD
TZOFFSETFROM:-0400
TZOFFSETTO:-0500
TZNAME:EST
DTSTART:19701101T020000
RRULE:FREQ=YEARLY;BYMONTH=11;BYDAY=1SU
END:STANDARD
END:VTIMEZONE
BEGIN:VEVENT
UID:5283893:Event:72206
DTSTAMP:20260423T001951Z
SUMMARY:Help two deserving Marines have the Ultimate Wedding
DESCRIPTION:Please vote for my son and his fiance - both Marines servi
 ng in Afghanistan - in Crate and Barrel's Ultimate wedding contest. He
 re is the link:Please vote for my son and his fiance - both Marines se
 rving in Afghanistan - in Crate and Barrel's Ultimate wedding contest.
  Here is the link: http://www.ultimateweddingcontest.com/entry/152706 
 and also post this on your own wall to help them get more votes. Thank
 s! Bill Cress\n and also post this on your own wall to help them get m
 ore votes. Thanks! Bill Cress\n\nFor more information visit https://ww
 w.dealerelite.net/events/help-two-deserving-marines
DTSTART;TZID=America/New_York:20110320T000000
DTEND;TZID=America/New_York:20110331T235900
CATEGORIES:vote
LOCATION:Online
WEBSITE:http://www.ultimateweddingcontest.com/entry/152706
URL:http://www.ultimateweddingcontest.com/entry/152706
CONTACT:
ORGANIZER;CN="Bill Cress":https://www.dealerelite.net/profile/BillCres
 s
ATTACH;FMTTYPE="image/jpeg":http://storage.ning.com/topology/rest/1.0/
 file/get/2632912904?profile=original
ATTENDEE;ROLE=REQ-PARTICIPANT;PARTSTAT=ACCEPTED;RSVP=TRUE;CN="Bill Cre
 ss":https://www.dealerelite.net/profile/BillCress
END:VEVENT
END:VCALENDAR
