BEGIN:VCALENDAR
PRODID:NingEventWidget-v1
VERSION:2.0
METHOD:PUBLISH
BEGIN:VTIMEZONE
TZID:America/New_York
X-LIC-LOCATION:America/New_York
BEGIN:DAYLIGHT
TZOFFSETFROM:-0500
TZOFFSETTO:-0400
TZNAME:EDT
DTSTART:19700308T020000
RRULE:FREQ=YEARLY;BYMONTH=3;BYDAY=2SU
END:DAYLIGHT
BEGIN:STANDARD
TZOFFSETFROM:-0400
TZOFFSETTO:-0500
TZNAME:EST
DTSTART:19701101T020000
RRULE:FREQ=YEARLY;BYMONTH=11;BYDAY=1SU
END:STANDARD
END:VTIMEZONE
BEGIN:VEVENT
UID:5283893:Event:199666
DTSTAMP:20260421T215732Z
SUMMARY:High Performance HR - Maximize People for Profits
DESCRIPTION:How to make HR a profit center versus a cost center for yo
 ur dealership. Presented by Kathryn Calrson, Product Director for Hotl
 inkHR.\nPeople costs are 35% of the typical dealerships operational ex
 penses. HR can be under utilized as the â€śpayroll and party planningâ
 €ť department or a key driver for profitability and performance improv
 ement. In this webinar you will learn the real costs of HR programs an
 d how good HR management will improve your bottom line.\nThis webinar 
 will provide you with the tools and proven methods to hire, engage, an
 d retain top performers. Make HR a profit center rather than a cost ce
 nter by measuring the four key performance indicators for an effective
  HR department and then use that information to improve and expand the
  programs that work and eliminate those that donâ€™t.\nÂ \nÂ \nÂ \n\nF
 or more information visit https://www.dealerelite.net/events/high-perf
 ormance-hr-maximize-people-for-profits
DTSTART;TZID=America/New_York:20110901T094500
DTEND;TZID=America/New_York:20110901T110000
CATEGORIES:webinar
LOCATION:Online Webinar
WEBSITE:http://go.kpaonline.com/LP=65?elqCampaignId=87
URL:http://go.kpaonline.com/LP=65?elqCampaignId=87
CONTACT:866-356-1735
ORGANIZER;CN="Brian Torrez":https://www.dealerelite.net/profile/BrianT
 orrez
ATTACH;FMTTYPE="image/jpeg":http://storage.ning.com/topology/rest/1.0/
 file/get/2632915576?profile=original
ATTENDEE;ROLE=REQ-PARTICIPANT;PARTSTAT=ACCEPTED;RSVP=TRUE;CN="Patric T
 immermans":https://www.dealerelite.net/profile/PatricTimmermans
ATTENDEE;ROLE=REQ-PARTICIPANT;PARTSTAT=ACCEPTED;RSVP=TRUE;CN="Brian To
 rrez":https://www.dealerelite.net/profile/BrianTorrez
END:VEVENT
END:VCALENDAR
