BEGIN:VCALENDAR
PRODID:NingEventWidget-v1
VERSION:2.0
METHOD:PUBLISH
BEGIN:VTIMEZONE
TZID:America/New_York
X-LIC-LOCATION:America/New_York
BEGIN:DAYLIGHT
TZOFFSETFROM:-0500
TZOFFSETTO:-0400
TZNAME:EDT
DTSTART:19700308T020000
RRULE:FREQ=YEARLY;BYMONTH=3;BYDAY=2SU
END:DAYLIGHT
BEGIN:STANDARD
TZOFFSETFROM:-0400
TZOFFSETTO:-0500
TZNAME:EST
DTSTART:19701101T020000
RRULE:FREQ=YEARLY;BYMONTH=11;BYDAY=1SU
END:STANDARD
END:VTIMEZONE
BEGIN:VEVENT
UID:5283893:Event:360338
DTSTAMP:20260423T072827Z
SUMMARY:High Performance Selling Workshop
DESCRIPTION:Click Here to learn more about Mark Tewart's upcoming wor
 kshop.\n\nFor more information visit https://www.dealerelite.net/event
 s/high-performance-selling-workshop-2
DTSTART;TZID=America/New_York:20130507T090000
DTEND;TZID=America/New_York:20130507T170000
CATEGORIES:workshop
LOCATION:Columbus, OH
WEBSITE:
URL:
CONTACT:
ORGANIZER;CN="Mark Tewart":https://www.dealerelite.net/profile/MarkTew
 art
ATTACH;FMTTYPE="image/jpeg":
ATTENDEE;ROLE=REQ-PARTICIPANT;PARTSTAT=ACCEPTED;RSVP=TRUE;CN="Mark Tew
 art":https://www.dealerelite.net/profile/MarkTewart
END:VEVENT
END:VCALENDAR
