BEGIN:VCALENDAR
PRODID:NingEventWidget-v1
VERSION:2.0
METHOD:PUBLISH
BEGIN:VTIMEZONE
TZID:America/New_York
X-LIC-LOCATION:America/New_York
BEGIN:DAYLIGHT
TZOFFSETFROM:-0500
TZOFFSETTO:-0400
TZNAME:EDT
DTSTART:19700308T020000
RRULE:FREQ=YEARLY;BYMONTH=3;BYDAY=2SU
END:DAYLIGHT
BEGIN:STANDARD
TZOFFSETFROM:-0400
TZOFFSETTO:-0500
TZNAME:EST
DTSTART:19701101T020000
RRULE:FREQ=YEARLY;BYMONTH=11;BYDAY=1SU
END:STANDARD
END:VTIMEZONE
BEGIN:VEVENT
UID:5283893:Event:252192
DTSTAMP:20260421T065307Z
SUMMARY:How HR Automation Will Save You Money
DESCRIPTION:Learn the four key performance metrics to enhance your hum
 an resource processes..  \n\nDate:\nThursday December 1, 2011\n\nTime
 :\n9:00am - 10:00am Pacific\n\n\n10:00am - 11:00am Mountain\n\n\n11:00
 am - 12:00pm Central\n\n\n12:00pm - 1:00pm Eastern\n\n\n\nHuman Resour
 ces Management and Compliance can be time consuming, tedious and paper
  intensive UNLESS you have software to automate the process. HR softwa
 re can improve efficiency, drive compliance, and establish best practi
 ces across your organization.Join Tamara Lischer to learn the four key
  performance metrics you can use to measure your HR program effectiven
 ess and justify the purchase of HR software. Tamara will discuss how t
 o select the right HR software for your company using simple but effec
 tive processes. Tamara will also demo HotlinkHR, an HR management soft
 ware designed specifically for dealerships.\n\nFor more information vi
 sit https://www.dealerelite.net/events/how-hr-automation-will-save-you
 -money
DTSTART;TZID=America/New_York:20111201T094500
DTEND;TZID=America/New_York:20111201T110000
CATEGORIES:hr, webinar, for, auto, dealers
LOCATION:Online Webinar
WEBSITE:http://go.kpaonline.com/LP=92?elqCampaignId=164
URL:http://go.kpaonline.com/LP=92?elqCampaignId=164
CONTACT:866-356-1735
ORGANIZER;CN="Brian Torrez":https://www.dealerelite.net/profile/BrianT
 orrez
ATTACH;FMTTYPE="image/jpeg":http://storage.ning.com/topology/rest/1.0/
 file/get/2632918205?profile=original
ATTENDEE;ROLE=REQ-PARTICIPANT;PARTSTAT=ACCEPTED;RSVP=TRUE;CN="Patric T
 immermans":https://www.dealerelite.net/profile/PatricTimmermans
ATTENDEE;ROLE=REQ-PARTICIPANT;PARTSTAT=ACCEPTED;RSVP=TRUE;CN="Brian To
 rrez":https://www.dealerelite.net/profile/BrianTorrez
END:VEVENT
END:VCALENDAR
