BEGIN:VCALENDAR
PRODID:NingEventWidget-v1
VERSION:2.0
METHOD:PUBLISH
BEGIN:VTIMEZONE
TZID:America/New_York
X-LIC-LOCATION:America/New_York
BEGIN:DAYLIGHT
TZOFFSETFROM:-0500
TZOFFSETTO:-0400
TZNAME:EDT
DTSTART:19700308T020000
RRULE:FREQ=YEARLY;BYMONTH=3;BYDAY=2SU
END:DAYLIGHT
BEGIN:STANDARD
TZOFFSETFROM:-0400
TZOFFSETTO:-0500
TZNAME:EST
DTSTART:19701101T020000
RRULE:FREQ=YEARLY;BYMONTH=11;BYDAY=1SU
END:STANDARD
END:VTIMEZONE
BEGIN:VEVENT
UID:5283893:Event:364688
DTSTAMP:20260423T104714Z
SUMMARY:How to Avoid Inspection Fines
DESCRIPTION:Learn how to avoid fines by preparing for the unavoidable 
 regulatory inspection.\nThursday May 2, 2013, 10:00am Mountain Time\nL
 earn the best practices on how to prepare for a regulatory inspection 
 from OSHA, EPA or DOT. Maintaining a compliant workplace is always an 
 important aspect of preparedness, but what procedures should you follo
 w once the regulator is onsite? Unfortunately, we do not have the luxu
 ry of knowing when the next inspection will occur, at what facility, a
 nd for what purpose – EPA, OSHA, DOT/FAA, Fire Marshall, State, Coun
 ty, or City regulators. This webinar will cover what you should expect
  when the regulators unexpectedly show up at your facility and how to 
 handle it. Knowing what to expect will reduce stress regarding the ins
 pection process and may minimize your risk of potential fines.\nPresen
 ted by: Trevor Stage, Channel Partner Manager, KPA\n\nTrevor is th
 e Channel Partner Manager and works with all KPA partners to develop s
 trategic relationships and enhance compliance throughout the automotiv
 e industry. Trevor has worked for KPA as an Environment & Safety Engin
 eer for over seven years, allowing him to complete thousands of inspec
 tions for auto dealers.\n\nFor more information visit https://www.deal
 erelite.net/events/how-to-avoid-inspection-fines
DTSTART;TZID=America/New_York:20130502T090000
DTEND;TZID=America/New_York:20130502T100000
CATEGORIES:webinar
LOCATION:http://www.dealerwebinars.com/5visit.html
WEBSITE:http://www.dealerwebinars.com/5visit.html
URL:http://www.dealerwebinars.com/5visit.html
CONTACT:
ORGANIZER;CN="Patric Timmermans":https://www.dealerelite.net/profile/P
 atricTimmermans
ATTACH;FMTTYPE="image/jpeg":http://storage.ning.com/topology/rest/1.0/
 file/get/2632941097?profile=original
ATTENDEE;ROLE=REQ-PARTICIPANT;PARTSTAT=ACCEPTED;RSVP=TRUE;CN="Patric T
 immermans":https://www.dealerelite.net/profile/PatricTimmermans
END:VEVENT
END:VCALENDAR
