BEGIN:VCALENDAR
PRODID:NingEventWidget-v1
VERSION:2.0
METHOD:PUBLISH
BEGIN:VTIMEZONE
TZID:America/New_York
X-LIC-LOCATION:America/New_York
BEGIN:DAYLIGHT
TZOFFSETFROM:-0500
TZOFFSETTO:-0400
TZNAME:EDT
DTSTART:19700308T020000
RRULE:FREQ=YEARLY;BYMONTH=3;BYDAY=2SU
END:DAYLIGHT
BEGIN:STANDARD
TZOFFSETFROM:-0400
TZOFFSETTO:-0500
TZNAME:EST
DTSTART:19701101T020000
RRULE:FREQ=YEARLY;BYMONTH=11;BYDAY=1SU
END:STANDARD
END:VTIMEZONE
BEGIN:VEVENT
UID:5283893:Event:326978
DTSTAMP:20260423T000343Z
SUMMARY:How to Avoid OSHA and EPA Traps at Your Collision Center
DESCRIPTION:Is Your Shop On A Collision Course With Compliance?\nColli
 sion centers can be very profitable as a standalone center or as an ad
 dition to a dealership. Collision centers the most heavily regulated p
 ortion of a dealership, and they can also pose the most compliance ris
 k. \nFree webinar Thursday October 18, 9am PT / 10am MT / 11am CT / n
 oon ET \nThis webinar will provide guidance for any person that manag
 es or works in a collision center. Collision centers are regulated by 
 many different state and federal programs including OSHA and the EPA. 
 The information provided will include the topics of:\n\nRespiratory Pr
 otection\nHazard Communication\nAir permitting (including 6H and VOCs)
 \nWaste determinations\nHazardous waste management\n\nPresented by: Z
 ach Pucillo, Environment & Safety Engineer, KPA\n\nZach Pucillo has
  worked for KPA as an Environmental and Safety Engineer for the past 6
  years. He has assisted automotive dealerships, manufacturing plants, 
 and warehouses with compliance and reducing the number of accidents. Z
 ach is a Certified Safety Professional and an authorized OSHA Outreach
  Trainer.\n\nFor more information visit https://www.dealerelite.net/ev
 ents/how-to-avoid-osha-and-epa-traps-at-your-collision-center
DTSTART;TZID=America/New_York:20121018T090000
DTEND;TZID=America/New_York:20121018T100000
CATEGORIES:webinar
LOCATION:http://www.dealerwebinars.com/collision?ch=social
WEBSITE:http://www.dealerwebinars.com/collision?ch=social
URL:http://www.dealerwebinars.com/collision?ch=social
CONTACT:
ORGANIZER;CN="Patric Timmermans":https://www.dealerelite.net/profile/P
 atricTimmermans
ATTACH;FMTTYPE="image/jpeg":http://storage.ning.com/topology/rest/1.0/
 file/get/2632941097?profile=original
ATTENDEE;ROLE=REQ-PARTICIPANT;PARTSTAT=ACCEPTED;RSVP=TRUE;CN="Patric T
 immermans":https://www.dealerelite.net/profile/PatricTimmermans
END:VEVENT
END:VCALENDAR
