BEGIN:VCALENDAR
PRODID:NingEventWidget-v1
VERSION:2.0
METHOD:PUBLISH
BEGIN:VTIMEZONE
TZID:America/New_York
X-LIC-LOCATION:America/New_York
BEGIN:DAYLIGHT
TZOFFSETFROM:-0500
TZOFFSETTO:-0400
TZNAME:EDT
DTSTART:19700308T020000
RRULE:FREQ=YEARLY;BYMONTH=3;BYDAY=2SU
END:DAYLIGHT
BEGIN:STANDARD
TZOFFSETFROM:-0400
TZOFFSETTO:-0500
TZNAME:EST
DTSTART:19701101T020000
RRULE:FREQ=YEARLY;BYMONTH=11;BYDAY=1SU
END:STANDARD
END:VTIMEZONE
BEGIN:VEVENT
UID:5283893:Event:355314
DTSTAMP:20260425T114010Z
SUMMARY:How to Create Content that Ranks
DESCRIPTION:Learn how to easily write content to get your site the bes
 t rankings.\nComplimentary webinar Wednesday February 27, 2013, 12:00p
 m Eastern Time\nHow to write simple, yet effective content that Google
  finds useful, accessible, and relevant for any given keyword. By util
 izing tested tactics from keyword emphasis to micro formatting, these 
 tips will obtain positive, and lasting, rankings for your websites.\nP
 resented by: Zak Nicola, Elite SEO Analyst, KPA. \n\nZak has been
  a Search Marketer since early 2006 with varied background experience 
 from the Auto Industry to Real Estate to Software on an international 
 scale. Zak has a deverse background in marketing including Brand Manag
 ement, Competition Analysis, UI Improvement, Content Creation, Large S
 ite Architecture, and Strategic Link Profile - just to name a few!\n\n
 For more information visit https://www.dealerelite.net/events/how-to-c
 reate-content-that-ranks
DTSTART;TZID=America/New_York:20130227T090000
DTEND;TZID=America/New_York:20130227T100000
CATEGORIES:webinar
LOCATION:http://www.dealerwebinars.com/contentranks?ch=social
WEBSITE:http://www.dealerwebinars.com/contentranks?ch=social
URL:http://www.dealerwebinars.com/contentranks?ch=social
CONTACT:
ORGANIZER;CN="Patric Timmermans":https://www.dealerelite.net/profile/P
 atricTimmermans
ATTACH;FMTTYPE="image/jpeg":http://storage.ning.com/topology/rest/1.0/
 file/get/2632941097?profile=original
ATTENDEE;ROLE=REQ-PARTICIPANT;PARTSTAT=ACCEPTED;RSVP=TRUE;CN="Patric T
 immermans":https://www.dealerelite.net/profile/PatricTimmermans
END:VEVENT
END:VCALENDAR
