BEGIN:VCALENDAR
PRODID:NingEventWidget-v1
VERSION:2.0
METHOD:PUBLISH
BEGIN:VTIMEZONE
TZID:America/New_York
X-LIC-LOCATION:America/New_York
BEGIN:DAYLIGHT
TZOFFSETFROM:-0500
TZOFFSETTO:-0400
TZNAME:EDT
DTSTART:19700308T020000
RRULE:FREQ=YEARLY;BYMONTH=3;BYDAY=2SU
END:DAYLIGHT
BEGIN:STANDARD
TZOFFSETFROM:-0400
TZOFFSETTO:-0500
TZNAME:EST
DTSTART:19701101T020000
RRULE:FREQ=YEARLY;BYMONTH=11;BYDAY=1SU
END:STANDARD
END:VTIMEZONE
BEGIN:VEVENT
UID:5283893:Event:328976
DTSTAMP:20260423T064549Z
SUMMARY:How to Double Lead Volume While Keeping the Best Quality Leads
DESCRIPTION:A special view into the playbook of how to convert more le
 ads for sales and service.\nPaul Potratz will share his secrets to gen
 erating high quality leads at double the volume and convert more leads
  for Sales and Service. In this webinar, we will cover:\n\nThe tools n
 eeded to get started\nWhat people are really searching for and how to 
 capitalize on it\nThe creative you need in place that will convert the
  best\nThe process to ensure doubled lead conversion\nWhat analytics a
 re most important\n\nThis webinar is for: Dealers, Sales Managers, Ser
 vice Managers, Internet Managers and Marketing Staff or anyone that wa
 nts a better understanding of what shoppers are really looking for onl
 ine when interested in purchasing a vehicle or need service.\nPresente
 d by: Paul Potratz, COO, Potratz Partners Advertising\n\nPaul Potr
 atz is a contributor to several media partners such as NY Times, NY Po
 st, The Wall Street Journal and also speaks at a number of automotive 
 events like JD Power, CPO Forum, NADA, Driving Sales Executive Summit,
  NADA 20, and NCM 20. Paul is also a partner at POTRATZ which is a ful
 l service automotive advertising agency that focuses on fully integrat
 ing a complete portfolio of services to drive results for their client
 s.\n\nFor more information visit https://www.dealerelite.net/events/ho
 w-to-double-lead-volume-while-keeping-the-best-quality-leads
DTSTART;TZID=America/New_York:20121031T090000
DTEND;TZID=America/New_York:20121031T100000
CATEGORIES:webinar
LOCATION:http://www.dealerwebinars.com/double?ch=social
WEBSITE:http://www.dealerwebinars.com/double?ch=social
URL:http://www.dealerwebinars.com/double?ch=social
CONTACT:
ORGANIZER;CN="Patric Timmermans":https://www.dealerelite.net/profile/P
 atricTimmermans
ATTACH;FMTTYPE="image/jpeg":http://storage.ning.com/topology/rest/1.0/
 file/get/2632959483?profile=original
ATTENDEE;ROLE=REQ-PARTICIPANT;PARTSTAT=ACCEPTED;RSVP=TRUE;CN="Patric T
 immermans":https://www.dealerelite.net/profile/PatricTimmermans
END:VEVENT
END:VCALENDAR
