BEGIN:VCALENDAR
PRODID:NingEventWidget-v1
VERSION:2.0
METHOD:PUBLISH
BEGIN:VTIMEZONE
TZID:America/New_York
X-LIC-LOCATION:America/New_York
BEGIN:DAYLIGHT
TZOFFSETFROM:-0500
TZOFFSETTO:-0400
TZNAME:EDT
DTSTART:19700308T020000
RRULE:FREQ=YEARLY;BYMONTH=3;BYDAY=2SU
END:DAYLIGHT
BEGIN:STANDARD
TZOFFSETFROM:-0400
TZOFFSETTO:-0500
TZNAME:EST
DTSTART:19701101T020000
RRULE:FREQ=YEARLY;BYMONTH=11;BYDAY=1SU
END:STANDARD
END:VTIMEZONE
BEGIN:VEVENT
UID:5283893:Event:184311
DTSTAMP:20260421T183638Z
SUMMARY:How to Eliminate or Reduce Fines from OSHA, EPA, and DOT
DESCRIPTION:Keep a small fine from becoming a big one and eliminate th
 e most common causes for penalties. Presented by Wayne Curtis, Directo
 r of Client Operations.The Federal Agencies, FAA, DOT, EPA, and OSHA, 
 take it seriously when they determine a business is not properly carin
 g for the safety of employees and the overall health of the environmen
 t. Understanding the penalty process used by these organizations can h
 elp you better understand what types of violations carry the greatest 
 penalties. Join Wayne Curtis to learn about Federal penalty policy for
  dealerships and how you can protect your business.\n\nFor more inform
 ation visit https://www.dealerelite.net/events/how-to-eliminate-or-red
 uce-fines-from-osha-epa-and-dot
DTSTART;TZID=America/New_York:20110818T094500
DTEND;TZID=America/New_York:20110818T110000
CATEGORIES:ehs, webinar
LOCATION:Online Webinar
WEBSITE:http://go.kpaonline.com/LP=63?elqCampaignId=81&ch=kpa
URL:http://go.kpaonline.com/LP=63?elqCampaignId=81&ch=kpa
CONTACT:866-956-1735
ORGANIZER;CN="Brian Torrez":https://www.dealerelite.net/profile/BrianT
 orrez
ATTACH;FMTTYPE="image/jpeg":http://storage.ning.com/topology/rest/1.0/
 file/get/2632918557?profile=original
ATTENDEE;ROLE=REQ-PARTICIPANT;PARTSTAT=ACCEPTED;RSVP=TRUE;CN="Patric T
 immermans":https://www.dealerelite.net/profile/PatricTimmermans
ATTENDEE;ROLE=REQ-PARTICIPANT;PARTSTAT=ACCEPTED;RSVP=TRUE;CN="Brian To
 rrez":https://www.dealerelite.net/profile/BrianTorrez
END:VEVENT
END:VCALENDAR
