BEGIN:VCALENDAR
PRODID:NingEventWidget-v1
VERSION:2.0
METHOD:PUBLISH
BEGIN:VTIMEZONE
TZID:America/New_York
X-LIC-LOCATION:America/New_York
BEGIN:DAYLIGHT
TZOFFSETFROM:-0500
TZOFFSETTO:-0400
TZNAME:EDT
DTSTART:19700308T020000
RRULE:FREQ=YEARLY;BYMONTH=3;BYDAY=2SU
END:DAYLIGHT
BEGIN:STANDARD
TZOFFSETFROM:-0400
TZOFFSETTO:-0500
TZNAME:EST
DTSTART:19701101T020000
RRULE:FREQ=YEARLY;BYMONTH=11;BYDAY=1SU
END:STANDARD
END:VTIMEZONE
BEGIN:VEVENT
UID:5283893:Event:169920
DTSTAMP:20260421T132252Z
SUMMARY:How to Implement Effective Onboarding
DESCRIPTION:Ready Set Go! Orientation, also known as on-boarding progr
 ams, allow you to get your employees off to good start and become prod
 uctive as quickly as possible.\n \nJoin Kathryn Carlson, Product Dire
 ctor for HotlinkHR to learn how to implement on-boarding so that new e
 mployees feel welcome, valued and prepared for success in their new po
 sition. From the first day on the job, to which key milestones should 
 be accomplished at 30, 60 and 90 days this webinar will explain how to
  design and implement a successful on-boarding program for your compan
 y.   \n\nFor more information visit https://www.dealerelite.net/even
 ts/how-to-implement-effective
DTSTART;TZID=America/New_York:20110804T094500
DTEND;TZID=America/New_York:20110804T110000
CATEGORIES:hr, webinar
LOCATION:Online Webinar
WEBSITE:http://go.kpaonline.com/LP=58?elqCampaignId=71&ch=kpa
URL:http://go.kpaonline.com/LP=58?elqCampaignId=71&ch=kpa
CONTACT:866-356-1735
ORGANIZER;CN="Brian Torrez":https://www.dealerelite.net/profile/BrianT
 orrez
ATTACH;FMTTYPE="image/jpeg":http://storage.ning.com/topology/rest/1.0/
 file/get/2632915576?profile=original
ATTENDEE;ROLE=REQ-PARTICIPANT;PARTSTAT=ACCEPTED;RSVP=TRUE;CN="Patric T
 immermans":https://www.dealerelite.net/profile/PatricTimmermans
ATTENDEE;ROLE=REQ-PARTICIPANT;PARTSTAT=ACCEPTED;RSVP=TRUE;CN="Brian To
 rrez":https://www.dealerelite.net/profile/BrianTorrez
END:VEVENT
END:VCALENDAR
