BEGIN:VCALENDAR
PRODID:NingEventWidget-v1
VERSION:2.0
METHOD:PUBLISH
BEGIN:VTIMEZONE
TZID:America/New_York
X-LIC-LOCATION:America/New_York
BEGIN:DAYLIGHT
TZOFFSETFROM:-0500
TZOFFSETTO:-0400
TZNAME:EDT
DTSTART:19700308T020000
RRULE:FREQ=YEARLY;BYMONTH=3;BYDAY=2SU
END:DAYLIGHT
BEGIN:STANDARD
TZOFFSETFROM:-0400
TZOFFSETTO:-0500
TZNAME:EST
DTSTART:19701101T020000
RRULE:FREQ=YEARLY;BYMONTH=11;BYDAY=1SU
END:STANDARD
END:VTIMEZONE
BEGIN:VEVENT
UID:5283893:Event:234742
DTSTAMP:20260419T140404Z
SUMMARY:How to Increase Customer-Paid Gross Profit in YOUR Service Dep
 artment
DESCRIPTION:Click here for details!\n\nFor more information visit http
 s://www.dealerelite.net/events/how-to-increase-customer-paid-gross-pro
 fit-in-your-service
DTSTART;TZID=America/New_York:20111103T200000
DTEND;TZID=America/New_York:20111104T120000
CATEGORIES:training
LOCATION:Radisson LAX Hotel
WEBSITE:
URL:
CONTACT:
ORGANIZER:Dennis Gregg
ATTACH;FMTTYPE="image/jpeg":http://storage.ning.com/topology/rest/1.0/
 file/get/2632924944?profile=original
ATTENDEE;ROLE=REQ-PARTICIPANT;PARTSTAT=TENTATIVE;RSVP=TRUE;CN="Garry H
 ouse":https://www.dealerelite.net/profile/GarryHouse
END:VEVENT
END:VCALENDAR
