BEGIN:VCALENDAR
PRODID:NingEventWidget-v1
VERSION:2.0
METHOD:PUBLISH
BEGIN:VTIMEZONE
TZID:America/New_York
X-LIC-LOCATION:America/New_York
BEGIN:DAYLIGHT
TZOFFSETFROM:-0500
TZOFFSETTO:-0400
TZNAME:EDT
DTSTART:19700308T020000
RRULE:FREQ=YEARLY;BYMONTH=3;BYDAY=2SU
END:DAYLIGHT
BEGIN:STANDARD
TZOFFSETFROM:-0400
TZOFFSETTO:-0500
TZNAME:EST
DTSTART:19701101T020000
RRULE:FREQ=YEARLY;BYMONTH=11;BYDAY=1SU
END:STANDARD
END:VTIMEZONE
BEGIN:VEVENT
UID:5283893:Event:234647
DTSTAMP:20260419T172335Z
SUMMARY:How to Make the Door Swing and the Phone Ring in YOUR Used Veh
 icle Department
DESCRIPTION:Click Here for Details!\n\nFor more information visit http
 s://www.dealerelite.net/events/how-to-make-the-door-swing-and-the-phon
 e-ring-in-your-used
DTSTART;TZID=America/New_York:20111101T120000
DTEND;TZID=America/New_York:20111102T173000
CATEGORIES:training
LOCATION:Radisson LAX Hotel
WEBSITE:
URL:
CONTACT:866-756-2620
ORGANIZER:Dennis Gregg
ATTACH;FMTTYPE="image/jpeg":http://storage.ning.com/topology/rest/1.0/
 file/get/2632935846?profile=original
ATTENDEE;ROLE=REQ-PARTICIPANT;PARTSTAT=TENTATIVE;RSVP=TRUE;CN="Garry H
 ouse":https://www.dealerelite.net/profile/GarryHouse
END:VEVENT
END:VCALENDAR
