BEGIN:VCALENDAR
PRODID:NingEventWidget-v1
VERSION:2.0
METHOD:PUBLISH
BEGIN:VTIMEZONE
TZID:America/New_York
X-LIC-LOCATION:America/New_York
BEGIN:DAYLIGHT
TZOFFSETFROM:-0500
TZOFFSETTO:-0400
TZNAME:EDT
DTSTART:19700308T020000
RRULE:FREQ=YEARLY;BYMONTH=3;BYDAY=2SU
END:DAYLIGHT
BEGIN:STANDARD
TZOFFSETFROM:-0400
TZOFFSETTO:-0500
TZNAME:EST
DTSTART:19701101T020000
RRULE:FREQ=YEARLY;BYMONTH=11;BYDAY=1SU
END:STANDARD
END:VTIMEZONE
BEGIN:VEVENT
UID:5283893:Event:241685
DTSTAMP:20260419T090744Z
SUMMARY:How to Manage Your Most Important Asset, Employees
DESCRIPTION:Join Michele to learn how to get poor performers to improv
 e and when it is necessary to determine if they are no longer effectiv
 e for the job. \nIn this webinar we will cover these key learning obje
 ctives:\n\n\nHow to identify top performers in your organization\nUnde
 rstanding why “low” performers are not performing to expectations\
 nThe importance of retaining key employees\nTurnover Risk of High Perf
 ormers\nTop 10 Ways To Retain High Performers\n\n\n\nFor more informat
 ion visit https://www.dealerelite.net/events/how-to-manage-your-most-i
 mportant-asset-employees
DTSTART;TZID=America/New_York:20111110T094500
DTEND;TZID=America/New_York:20111110T110000
CATEGORIES:hr, webinar
LOCATION:Online Webinar
WEBSITE:http://go.kpaonline.com/LP=85?elqCampaignId=148
URL:http://go.kpaonline.com/LP=85?elqCampaignId=148
CONTACT:866-356-1735
ORGANIZER;CN="Brian Torrez":https://www.dealerelite.net/profile/BrianT
 orrez
ATTACH;FMTTYPE="image/jpeg":http://storage.ning.com/topology/rest/1.0/
 file/get/2632938280?profile=original
ATTENDEE;ROLE=REQ-PARTICIPANT;PARTSTAT=ACCEPTED;RSVP=TRUE;CN="Brian To
 rrez":https://www.dealerelite.net/profile/BrianTorrez
END:VEVENT
END:VCALENDAR
