BEGIN:VCALENDAR
PRODID:NingEventWidget-v1
VERSION:2.0
METHOD:PUBLISH
BEGIN:VTIMEZONE
TZID:America/New_York
X-LIC-LOCATION:America/New_York
BEGIN:DAYLIGHT
TZOFFSETFROM:-0500
TZOFFSETTO:-0400
TZNAME:EDT
DTSTART:19700308T020000
RRULE:FREQ=YEARLY;BYMONTH=3;BYDAY=2SU
END:DAYLIGHT
BEGIN:STANDARD
TZOFFSETFROM:-0400
TZOFFSETTO:-0500
TZNAME:EST
DTSTART:19701101T020000
RRULE:FREQ=YEARLY;BYMONTH=11;BYDAY=1SU
END:STANDARD
END:VTIMEZONE
BEGIN:VEVENT
UID:5283893:Event:332235
DTSTAMP:20260423T095817Z
SUMMARY:How to Maximize Mobile with SMS Chat
DESCRIPTION:Learn about this new tool and how it can help you sell mor
 e cars.\nMobile consumers are highly motivated car shoppers but many w
 ould rather text than talk. Learn how a web-based SMS chat solution in
 tegrated to your mobile inventory listings can provide a compelling ne
 w way for consumers to communicate with your dealership and increase m
 obile web leads by 25%.\nWednesday November 7, 2012, 10:00am Mountain 
 Time\nPresented by: Bret Dunlap, President & CEO,Advanced Mobile\n\
 nBret is founder and CEO of Advanced Mobile, LLC, (AM), a leading prov
 ider of mobile services to automotive retailers. Prior to founding Adv
 anced Mobile, in 1989 Bret co-founded and was CEO of Advanced Telecom 
 Services, Inc. (ATS)--a leading interactive voice response company spe
 cializing in 800 and 900 services. ATS has provided audiotext applicat
 ions for hundreds of media companies within the newspaper, radio and T
 V industries. Bret Dunlap holds a BS in economics from James Madison U
 niversity in 1981 and an MBA with a concentration in finance & investm
 ents from George Washington University in 1983.\n\nFor more informatio
 n visit https://www.dealerelite.net/events/how-to-maximize-mobile-with
 -sms-chat
DTSTART;TZID=America/New_York:20121107T090000
DTEND;TZID=America/New_York:20121107T100000
CATEGORIES:webinar
LOCATION:http://www.dealerwebinars.com/textchat?ch=social
WEBSITE:http://www.dealerwebinars.com/textchat?ch=social
URL:http://www.dealerwebinars.com/textchat?ch=social
CONTACT:
ORGANIZER;CN="Patric Timmermans":https://www.dealerelite.net/profile/P
 atricTimmermans
ATTACH;FMTTYPE="image/jpeg":http://storage.ning.com/topology/rest/1.0/
 file/get/2632957720?profile=original
ATTENDEE;ROLE=REQ-PARTICIPANT;PARTSTAT=ACCEPTED;RSVP=TRUE;CN="Patric T
 immermans":https://www.dealerelite.net/profile/PatricTimmermans
END:VEVENT
END:VCALENDAR
