BEGIN:VCALENDAR
PRODID:NingEventWidget-v1
VERSION:2.0
METHOD:PUBLISH
BEGIN:VTIMEZONE
TZID:America/New_York
X-LIC-LOCATION:America/New_York
BEGIN:DAYLIGHT
TZOFFSETFROM:-0500
TZOFFSETTO:-0400
TZNAME:EDT
DTSTART:19700308T020000
RRULE:FREQ=YEARLY;BYMONTH=3;BYDAY=2SU
END:DAYLIGHT
BEGIN:STANDARD
TZOFFSETFROM:-0400
TZOFFSETTO:-0500
TZNAME:EST
DTSTART:19701101T020000
RRULE:FREQ=YEARLY;BYMONTH=11;BYDAY=1SU
END:STANDARD
END:VTIMEZONE
BEGIN:VEVENT
UID:5283893:Event:352259
DTSTAMP:20260425T214533Z
SUMMARY:How to Maximize Your Opportunities Using Call Monitoring
DESCRIPTION:Learn how to implement and optimize call monitoring in you
 r dealership.\nWednesday February 13, 2013, 10:00am Mountain Time\n A
 ttendees will learn the importance of having a call monitoring solutio
 n in the dealership that will help improve the way incoming phone call
 s are being handled. This session will focus on the following: \n\nHo
 w many calls to listen to per day\nWhat to look for in the calls\nCrea
 te weekly team training sessions reviewing calls\nLearn to improve pho
 ne processes based on monitoring results\nCreate a positive team envir
 onment using these practices while building a stronger team\n\nPresent
 ed by: Stan Sher, President, Dealer eTraining\n\nAs one of the top
  experts in automotive internet sales and business development today, 
 Stan Sher has been training dealers best practices with regards to int
 ernet lead management, sales process, and business development process
 . He currently writes for numerous automotive dealer publications incl
 uding automotiveinternetsales.com where he serves as the editor. In ad
 dition, Stan is a frequent speaker for the Greater New York Automotive
  Dealers Association as well as numerous industry conferences.\n\nFor 
 more information visit https://www.dealerelite.net/events/how-to-maxim
 ize-your-opportunities-using-call-monitoring
DTSTART;TZID=America/New_York:20130213T090000
DTEND;TZID=America/New_York:20130213T220000
CATEGORIES:webinar
LOCATION:http://www.dealerwebinars.com/monitoring?ch=social
WEBSITE:http://www.dealerwebinars.com/monitoring?ch=social
URL:http://www.dealerwebinars.com/monitoring?ch=social
CONTACT:
ORGANIZER;CN="Patric Timmermans":https://www.dealerelite.net/profile/P
 atricTimmermans
ATTACH;FMTTYPE="image/jpeg":http://storage.ning.com/topology/rest/1.0/
 file/get/2632941097?profile=original
ATTENDEE;ROLE=REQ-PARTICIPANT;PARTSTAT=ACCEPTED;RSVP=TRUE;CN="Patric T
 immermans":https://www.dealerelite.net/profile/PatricTimmermans
END:VEVENT
END:VCALENDAR
