BEGIN:VCALENDAR
PRODID:NingEventWidget-v1
VERSION:2.0
METHOD:PUBLISH
BEGIN:VTIMEZONE
TZID:America/New_York
X-LIC-LOCATION:America/New_York
BEGIN:DAYLIGHT
TZOFFSETFROM:-0500
TZOFFSETTO:-0400
TZNAME:EDT
DTSTART:19700308T020000
RRULE:FREQ=YEARLY;BYMONTH=3;BYDAY=2SU
END:DAYLIGHT
BEGIN:STANDARD
TZOFFSETFROM:-0400
TZOFFSETTO:-0500
TZNAME:EST
DTSTART:19701101T020000
RRULE:FREQ=YEARLY;BYMONTH=11;BYDAY=1SU
END:STANDARD
END:VTIMEZONE
BEGIN:VEVENT
UID:5283893:Event:310149
DTSTAMP:20260421T064148Z
SUMMARY:How to Prevent, Prepare, and Respond to Workplace Violence
DESCRIPTION:Effectively dealing with Intimidation, Bullying, and Viole
 nce in the Workplace.\nFree Webinar Thursday July 26, 2012, 9am PT, 10
 am MT, 11am CT, 12 ET\nWorkplace Violence is a serious concern in the 
 high stress workplace environment of dealerships and can include every
 thing from bullying to physical injury or death. Every employer has a 
 legal and ethical responsibility to maintain a safe workplace. Join t
 his webinar to learn:\n\nTypes of Workplace Violence\nProfile of a Vio
 lent Employee\nTypical Problem Areas\nPreventative Measures\nDisciplin
 e and Discharge of Violent Employees\nConfronting Violence and Managin
 g Employee Trauma\n\nPresented by: Victoria Holladay, Partner, For
 d and Harrison, LLP\n\nVictoria Holladay practices labor and employmen
 t law representing clients across the nation. Her litigation practice 
 has covered most types of employment-related claims, including discrim
 ination (race, gender, national origin, religion, age, same sex/opposi
 te sex harassment, veterans' rights, disability, FMLA, sexual orientat
 ion, pregnancy), wrongful discharge and related tort and contract case
 s, arbitrations, and wage-hour matters. Victoria is an experienced adv
 isor to General Counsel, executives, and Boards of Directors on the le
 gal and practical impact of employment issues arising out of strategic
  business plans and mergers and acquisitions. Victoria advises KPA’s
  HR Management and HotlinkHR clients.\n\nFor more information visit ht
 tps://www.dealerelite.net/events/how-to-prevent-prepare-and-respond-to
 -workplace-violence
DTSTART;TZID=America/New_York:20120726T090000
DTEND;TZID=America/New_York:20120726T100000
CATEGORIES:webinar
LOCATION:http://www.dealerwebinars.com
WEBSITE:http://www.dealerwebinars.com
URL:http://www.dealerwebinars.com
CONTACT:
ORGANIZER;CN="Patric Timmermans":https://www.dealerelite.net/profile/P
 atricTimmermans
ATTACH;FMTTYPE="image/jpeg":http://storage.ning.com/topology/rest/1.0/
 file/get/2632941097?profile=original
ATTENDEE;ROLE=REQ-PARTICIPANT;PARTSTAT=ACCEPTED;RSVP=TRUE;CN="Patric T
 immermans":https://www.dealerelite.net/profile/PatricTimmermans
END:VEVENT
END:VCALENDAR
