BEGIN:VCALENDAR
PRODID:NingEventWidget-v1
VERSION:2.0
METHOD:PUBLISH
BEGIN:VTIMEZONE
TZID:America/New_York
X-LIC-LOCATION:America/New_York
BEGIN:DAYLIGHT
TZOFFSETFROM:-0500
TZOFFSETTO:-0400
TZNAME:EDT
DTSTART:19700308T020000
RRULE:FREQ=YEARLY;BYMONTH=3;BYDAY=2SU
END:DAYLIGHT
BEGIN:STANDARD
TZOFFSETFROM:-0400
TZOFFSETTO:-0500
TZNAME:EST
DTSTART:19701101T020000
RRULE:FREQ=YEARLY;BYMONTH=11;BYDAY=1SU
END:STANDARD
END:VTIMEZONE
BEGIN:VEVENT
UID:5283893:Event:349834
DTSTAMP:20260425T065758Z
SUMMARY:How To Run Your Dealership By The Book
DESCRIPTION:The first automotive conference of it’s kind, the Automo
 tive Super Conference brings to the auto industry a 2 day, biblically
  based conference, that will teach you how to run every profit center 
 in the dealership ethically and morally in order to increase profit an
 d return on investment. How to Run Your Dealership By The Book will gi
 ve attendees a rare look into the timeless principles found in the bib
 le and how it says a business should be run.\nFor more info and to reg
 ister, hop on over to AutomotiveSuperConference.com\n\nFor more inform
 ation visit https://www.dealerelite.net/events/how-to-run-your-dealers
 hip-by-the-book
DTSTART;TZID=America/New_York:20130313T000000
DTEND;TZID=America/New_York:20130314T235900
CATEGORIES:automotive, conference
LOCATION:Charlotte Motor Speedway
WEBSITE:http://AutomotiveSuperConference.com
URL:http://AutomotiveSuperConference.com
CONTACT:
ORGANIZER;CN="David Johnson":https://www.dealerelite.net/profile/David
 Johnson
ATTACH;FMTTYPE="image/jpeg":http://storage.ning.com/topology/rest/1.0/
 file/get/2632965596?profile=original
ATTENDEE;ROLE=REQ-PARTICIPANT;PARTSTAT=ACCEPTED;RSVP=TRUE;CN="Chris Pa
 tton":https://www.dealerelite.net/profile/ChrisPatton
ATTENDEE;ROLE=REQ-PARTICIPANT;PARTSTAT=ACCEPTED;RSVP=TRUE;CN="Marty Ra
 ymond":https://www.dealerelite.net/profile/MartyRaymond
ATTENDEE;ROLE=REQ-PARTICIPANT;PARTSTAT=ACCEPTED;RSVP=TRUE;CN="Troy Spr
 ing":https://www.dealerelite.net/profile/TroySpring
ATTENDEE;ROLE=REQ-PARTICIPANT;PARTSTAT=ACCEPTED;RSVP=TRUE;CN="Ernie Ka
 sprowicz":https://www.dealerelite.net/profile/ErnieKasprowicz
ATTENDEE;ROLE=REQ-PARTICIPANT;PARTSTAT=ACCEPTED;RSVP=TRUE;CN="Craig Lo
 ckerd":https://www.dealerelite.net/profile/CraigLockerd
ATTENDEE;ROLE=REQ-PARTICIPANT;PARTSTAT=ACCEPTED;RSVP=TRUE;CN="David Jo
 hnson":https://www.dealerelite.net/profile/DavidJohnson
END:VEVENT
END:VCALENDAR
