BEGIN:VCALENDAR
PRODID:NingEventWidget-v1
VERSION:2.0
METHOD:PUBLISH
BEGIN:VTIMEZONE
TZID:America/New_York
X-LIC-LOCATION:America/New_York
BEGIN:DAYLIGHT
TZOFFSETFROM:-0500
TZOFFSETTO:-0400
TZNAME:EDT
DTSTART:19700308T020000
RRULE:FREQ=YEARLY;BYMONTH=3;BYDAY=2SU
END:DAYLIGHT
BEGIN:STANDARD
TZOFFSETFROM:-0400
TZOFFSETTO:-0500
TZNAME:EST
DTSTART:19701101T020000
RRULE:FREQ=YEARLY;BYMONTH=11;BYDAY=1SU
END:STANDARD
END:VTIMEZONE
BEGIN:VEVENT
UID:5283893:Event:323672
DTSTAMP:20260423T014433Z
SUMMARY:How to Simplify Analytics to See the Numbers that Make a Diffe
 rence
DESCRIPTION:Every dealership needs to work from benchmarks if they are
  to improve their levels of success.\nFree webinar Wednesday October 1
 7, 9am PT / 10am MT / 11am CT / noon ET\nThe numbers don’t lie, but 
 they can be made to mislead. This is one of the biggest challenges in 
 automotive internet marketing as the overload of reports, signals, and
  analytics often tell an unrealistic tale of the success and failures 
 of different products and services. In this webinar, JD Rucker will d
 iscuss the numbers that dealers should be focusing upon regarding thei
 r websites, referral traffic, lead conversion, and search engine ranki
 ngs.\nPresented by: JD Rucker, Director of New Media, KPA\n\nJD is
  responsible for overseeing the direction of digital marketing for the
  TK Carsites product line for automotive dealerships as well as for no
 n-auto dealer clients under the Hasai brand. He has personally optimiz
 ed over 150 individual websites and coordinated the optimization of 10
 00 websites. JD is recognized in the industry as the foremost authorit
 y on automotive SEO and is a renowned social media expert.\n\nFor more
  information visit https://www.dealerelite.net/events/how-to-simplify-
 analytics-to-see-the-numbers-that-make-a
DTSTART;TZID=America/New_York:20121017T090000
DTEND;TZID=America/New_York:20121017T100000
CATEGORIES:webinar
LOCATION:http://www.dealerwebinars.com
WEBSITE:http://www.dealerwebinars.com
URL:http://www.dealerwebinars.com
CONTACT:
ORGANIZER;CN="Patric Timmermans":https://www.dealerelite.net/profile/P
 atricTimmermans
ATTACH;FMTTYPE="image/jpeg":http://storage.ning.com/topology/rest/1.0/
 file/get/2632941709?profile=original
ATTENDEE;ROLE=REQ-PARTICIPANT;PARTSTAT=ACCEPTED;RSVP=TRUE;CN="Patric T
 immermans":https://www.dealerelite.net/profile/PatricTimmermans
END:VEVENT
END:VCALENDAR
