BEGIN:VCALENDAR
PRODID:NingEventWidget-v1
VERSION:2.0
METHOD:PUBLISH
BEGIN:VTIMEZONE
TZID:America/New_York
X-LIC-LOCATION:America/New_York
BEGIN:DAYLIGHT
TZOFFSETFROM:-0500
TZOFFSETTO:-0400
TZNAME:EDT
DTSTART:19700308T020000
RRULE:FREQ=YEARLY;BYMONTH=3;BYDAY=2SU
END:DAYLIGHT
BEGIN:STANDARD
TZOFFSETFROM:-0400
TZOFFSETTO:-0500
TZNAME:EST
DTSTART:19701101T020000
RRULE:FREQ=YEARLY;BYMONTH=11;BYDAY=1SU
END:STANDARD
END:VTIMEZONE
BEGIN:VEVENT
UID:5283893:Event:364205
DTSTAMP:20260424T035117Z
SUMMARY:How to Solve the Riddle of Employee Leave Law
DESCRIPTION:Learn how to manage employee leaves and comply with the AD
 A, FMLA, Disability, and COBRA Regulations.\nComplimentary webinar Thu
 rsday April 11, 2013, 10:00am Mountain Time\nRegister at: http://www.
 dealerwebinars.com/leavelaw?ch=social\nThe Federal Family Medical Leav
 e Act (FMLA) provides leave for qualifying individuals for their own s
 erious health condition or to care for a close relative. Employees inj
 ured on the job may qualify under the Workers’ Compensation program.
  The Americans with Disabilities Act (ADA) provides leaves as a reason
 able accommodation of a qualifying disability. COBRA governs when an e
 mployee is entitled to continuation of health care benefits at their c
 ost. Sound confusing? It is- and the laws overlap adding to the confus
 ion. Nationally known employment and labor attorney John Boggs will p
 rovide an overview of the regulations and expert advice on effectively
  managing employee leaves and reducing the risk of lawsuits and fines.
 \nPresented by: John Boggs, Partner,Fine, Boggs and Perkins, LLP\n\
 nThe managing partner of Fine, Boggs and Perkins LLP. John is a long-t
 ime attorney focusing on employment law representing dealerships. A si
 gnificant portion of his practice involves dealer-related issues. He i
 s intimately familiar with the special issues dealers face when it com
 es to labor and employment issues.\n\nFor more information visit https
 ://www.dealerelite.net/events/how-to-solve-the-riddle-of-employee-leav
 e-law
DTSTART;TZID=America/New_York:20130411T090000
DTEND;TZID=America/New_York:20130411T100000
CATEGORIES:webinar
LOCATION:http://www.dealerwebinars.com/leavelaw?ch=social
WEBSITE:http://www.dealerwebinars.com/leavelaw?ch=social
URL:http://www.dealerwebinars.com/leavelaw?ch=social
CONTACT:
ORGANIZER;CN="Patric Timmermans":https://www.dealerelite.net/profile/P
 atricTimmermans
ATTACH;FMTTYPE="image/jpeg":http://storage.ning.com/topology/rest/1.0/
 file/get/2632941097?profile=original
ATTENDEE;ROLE=REQ-PARTICIPANT;PARTSTAT=ACCEPTED;RSVP=TRUE;CN="Patric T
 immermans":https://www.dealerelite.net/profile/PatricTimmermans
END:VEVENT
END:VCALENDAR
