BEGIN:VCALENDAR
PRODID:NingEventWidget-v1
VERSION:2.0
METHOD:PUBLISH
BEGIN:VTIMEZONE
TZID:America/New_York
X-LIC-LOCATION:America/New_York
BEGIN:DAYLIGHT
TZOFFSETFROM:-0500
TZOFFSETTO:-0400
TZNAME:EDT
DTSTART:19700308T020000
RRULE:FREQ=YEARLY;BYMONTH=3;BYDAY=2SU
END:DAYLIGHT
BEGIN:STANDARD
TZOFFSETFROM:-0400
TZOFFSETTO:-0500
TZNAME:EST
DTSTART:19701101T020000
RRULE:FREQ=YEARLY;BYMONTH=11;BYDAY=1SU
END:STANDARD
END:VTIMEZONE
BEGIN:VEVENT
UID:5283893:Event:365125
DTSTAMP:20260423T171708Z
SUMMARY:How to Successfully Market Fixed Ops with Social Media
DESCRIPTION:Attract Visitors, Build Genuine Fans, Generate Leads & Sal
 es\nJoin us for a fascinating Webinar on the new Social Economy and le
 arn how to create more business in the Service Drive using Social Medi
 a. Studies show there's never been more pressure on dealership Fixed O
 ps to capture business from Independents and Aftermarkets. Social Medi
 a leverages your already-existing customer database, fosters repeat bu
 siness and attracts new customers. \nComplimentary webinar Wednesday 
 April 24, 2013, 9:00am Pacific Time\nIn this timely Webinar you’ll l
 earn how retail automotive has shifted toward the Social customer and 
 how to capitalize on Social for Fixed Operations. We’ll discuss “b
 est practices” for marketing on Social and how to maintain a great o
 nline reputation. \nWhat You’ll Learn:\n\nThe 6 Must-Haves for succ
 essful Facebook marketing.\nWhich Facebook marketing tactics get you t
 he best results.\nHow to generate Facebook leads and convert them into
  appointments.\nPowerful content strategies to engage your ideal custo
 mers.\nWhat NOT to do: why your ability to listen, engage and respond 
 matters.\nImportance of developing staff to support your Facebook mark
 eting strategy.\n\nWe welcome Kathi Kruse, automotive Social Media exp
 ert, author and Founder of Kruse Control Inc., a leading Social Media 
 coaching & training company with 30 years in the car business!   Don
 t miss this Webinar! You’ll takeaway valuable information that you
 ’ll use immediately! The Social economy is here. Register now.\nPres
 ented by: Kathi Kruse, Founder, Kruse Control Inc.\n\nKathi Kruse 
 is an Automotive Social Media Expert, Blogger, Author, Speaker and Fou
 nder of Kruse Control Inc. Kathi started at the ground floor of a deal
 ership in 1979 and methodically worked her way up through all levels o
 f dealership operations. Since 2001, Kathi has bridged the balance bet
 ween 30 years of ‘best practices’ dealership management experience
  and creative new ideas to generate results for dealerships and manufa
 cturers across Southern California and US.\n\nFor more information vis
 it https://www.dealerelite.net/events/how-to-successfully-market-fixed
 -ops-with-social-media
DTSTART;TZID=America/New_York:20130424T090000
DTEND;TZID=America/New_York:20130424T100000
CATEGORIES:webinar
LOCATION:http://kpa.co/KathiKruseFixedOps
WEBSITE:http://kpa.co/KathiKruseFixedOps
URL:http://kpa.co/KathiKruseFixedOps
CONTACT:
ORGANIZER;CN="Patric Timmermans":https://www.dealerelite.net/profile/P
 atricTimmermans
ATTACH;FMTTYPE="image/jpeg":http://storage.ning.com/topology/rest/1.0/
 file/get/2632959701?profile=original
ATTENDEE;ROLE=REQ-PARTICIPANT;PARTSTAT=ACCEPTED;RSVP=TRUE;CN="Patric T
 immermans":https://www.dealerelite.net/profile/PatricTimmermans
END:VEVENT
END:VCALENDAR
