BEGIN:VCALENDAR
PRODID:NingEventWidget-v1
VERSION:2.0
METHOD:PUBLISH
BEGIN:VTIMEZONE
TZID:America/New_York
X-LIC-LOCATION:America/New_York
BEGIN:DAYLIGHT
TZOFFSETFROM:-0500
TZOFFSETTO:-0400
TZNAME:EDT
DTSTART:19700308T020000
RRULE:FREQ=YEARLY;BYMONTH=3;BYDAY=2SU
END:DAYLIGHT
BEGIN:STANDARD
TZOFFSETFROM:-0400
TZOFFSETTO:-0500
TZNAME:EST
DTSTART:19701101T020000
RRULE:FREQ=YEARLY;BYMONTH=11;BYDAY=1SU
END:STANDARD
END:VTIMEZONE
BEGIN:VEVENT
UID:5283893:Event:335110
DTSTAMP:20260423T162606Z
SUMMARY:How To Turbo-Charge Internet Leads
DESCRIPTION:If youâ€™re not closing 15% of your Internet leads, you mu
 st attend this webinar.\nJerry gave an entire session on this topic at
  Digital Dealer, now you can get the same information without leaving 
 your dealership.Â \nFree Webinar Wednesday November 14, 2012, 10:00am 
 Mountain Time\nJerry Thibeau, founder of Phone Ninjas, will provide yo
 u with techniques on how to deliver a world-class response to Internet
  customers. Jerry will cover response times, outbound phone calls, and
  e-mail templates, and you will even learn how to create a personalize
 d video message for your clients.Â What will you learn and what action
  items will you take back to the dealership?\n\nLearn how to respond t
 o an Internet lead in less than 15 minutes.\nLearn how to employ prope
 r techniques when making an outbound call to an Internet customer.\nLe
 arn to write e-mail template copy that get results.\nLearn how to make
  a personalized video message to each Internet lead.\n\nPresented by:Â
  JerryÂ Thibeau,Â President,Phone Ninjas\n\\nJerry Thibeau is the pres
 ident and founder of Phone Ninjas, a company focused on helping dealer
 ships improve phone skills. Jerry is a 27-year automotive veteran and 
 has earned the nickname \"The Phone Ninja\" for his ability to turn ev
 en the hardest of phone shoppers into real appointments that show. Hav
 ing personally listened to and provided coaching feedback on more than
  10,000 sales calls, Thibeau is the industry's best and brightest when
  it comes to evaluating a phone conversation. In 2011, Jerry logged 14
 2 flights over a span of forty weeks speaking at dealerships, dealer a
 ssociations and key industry conferences. Jerry has written countless 
 articles for the industry and is an active blogger on all of the popul
 ar automotive social media sites.\n\nFor more information visit https:
 //www.dealerelite.net/events/how-to-turbo-charge-internet-leads
DTSTART;TZID=America/New_York:20121114T090000
DTEND;TZID=America/New_York:20121114T100000
CATEGORIES:webinar
LOCATION:www.DealerWebinars.com
WEBSITE:http://www.dealerwebinars.com
URL:http://www.dealerwebinars.com
CONTACT:
ORGANIZER;CN="Patric Timmermans":https://www.dealerelite.net/profile/P
 atricTimmermans
ATTACH;FMTTYPE="image/jpeg":http://storage.ning.com/topology/rest/1.0/
 file/get/2632961166?profile=original
ATTENDEE;ROLE=REQ-PARTICIPANT;PARTSTAT=ACCEPTED;RSVP=TRUE;CN="Tommy Mc
 Gee":https://www.dealerelite.net/profile/TommyMcGee
ATTENDEE;ROLE=REQ-PARTICIPANT;PARTSTAT=ACCEPTED;RSVP=TRUE;CN="Patric T
 immermans":https://www.dealerelite.net/profile/PatricTimmermans
END:VEVENT
END:VCALENDAR
