BEGIN:VCALENDAR
PRODID:NingEventWidget-v1
VERSION:2.0
METHOD:PUBLISH
BEGIN:VTIMEZONE
TZID:America/New_York
X-LIC-LOCATION:America/New_York
BEGIN:DAYLIGHT
TZOFFSETFROM:-0500
TZOFFSETTO:-0400
TZNAME:EDT
DTSTART:19700308T020000
RRULE:FREQ=YEARLY;BYMONTH=3;BYDAY=2SU
END:DAYLIGHT
BEGIN:STANDARD
TZOFFSETFROM:-0400
TZOFFSETTO:-0500
TZNAME:EST
DTSTART:19701101T020000
RRULE:FREQ=YEARLY;BYMONTH=11;BYDAY=1SU
END:STANDARD
END:VTIMEZONE
BEGIN:VEVENT
UID:5283893:Event:355277
DTSTAMP:20260425T101554Z
SUMMARY:I Have to Pay For That? Personal Protective Equipment
DESCRIPTION:Learn what PPE you are required to purchase for your deale
 rship employees.\nThursday February 28, 2013, 12:00pm Eastern Time\nÂ 
 Gloves, shoes, hats, goggles â€“ do you know what PPE you have to purc
 hase for your employees? In this webinar, Mike Rusak will explains the
  reasons why employer have to purchase Personal Protective Equipment. 
 We will also cover how it is determined what an employers must provide
  and how often. And finally, what PPE an employer should never purchas
 e to keep their company safe from fines.\nPresented by:Â MikeÂ Rusak,Â
  Engineer II,Â KPA\n\nMike is an Engineer II for KPA and has been with
  the company for over four years. He has over ten years of experience 
 in the environmental, health, and safety field. He is a World Safety O
 rganization Certified Safety Specialist. Mike has a degree in Environm
 ental Science from Marywood University\n\nFor more information visit h
 ttps://www.dealerelite.net/events/i-have-to-pay-for-that-personal-prot
 ective-equipment
DTSTART;TZID=America/New_York:20130228T090000
DTEND;TZID=America/New_York:20130228T100000
CATEGORIES:webinar
LOCATION:http://www.dealerwebinars.com/payppe?ch=social
WEBSITE:http://www.dealerwebinars.com/payppe?ch=social
URL:http://www.dealerwebinars.com/payppe?ch=social
CONTACT:
ORGANIZER;CN="Patric Timmermans":https://www.dealerelite.net/profile/P
 atricTimmermans
ATTACH;FMTTYPE="image/jpeg":http://storage.ning.com/topology/rest/1.0/
 file/get/2632941097?profile=original
ATTENDEE;ROLE=REQ-PARTICIPANT;PARTSTAT=ACCEPTED;RSVP=TRUE;CN="Patric T
 immermans":https://www.dealerelite.net/profile/PatricTimmermans
END:VEVENT
END:VCALENDAR
