BEGIN:VCALENDAR
PRODID:NingEventWidget-v1
VERSION:2.0
METHOD:PUBLISH
BEGIN:VTIMEZONE
TZID:America/New_York
X-LIC-LOCATION:America/New_York
BEGIN:DAYLIGHT
TZOFFSETFROM:-0500
TZOFFSETTO:-0400
TZNAME:EDT
DTSTART:19700308T020000
RRULE:FREQ=YEARLY;BYMONTH=3;BYDAY=2SU
END:DAYLIGHT
BEGIN:STANDARD
TZOFFSETFROM:-0400
TZOFFSETTO:-0500
TZNAME:EST
DTSTART:19701101T020000
RRULE:FREQ=YEARLY;BYMONTH=11;BYDAY=1SU
END:STANDARD
END:VTIMEZONE
BEGIN:VEVENT
UID:5283893:Event:372317
DTSTAMP:20260422T212542Z
SUMMARY:Important Webinar: 5 Myths and 10 Rules for Advanced Social Me
 dia Mastery
DESCRIPTION:Social media has evolved over the years to the point where
  today, it truly is an incredible advertising platform for those who k
 now how to do it properly. It’s more than branding. Today, the right
  techniques and proper strategies can be used to drive foot traffic to
  the dealership as well as website traffic - to the point that brandin
 g becomes the consolation prize rather than the focus.\nBeyond the Bas
 ics: 5 Myths and 10 Rules for Advanced Social Media Mastery\n\nFor mor
 e information visit https://www.dealerelite.net/events/important-webin
 ar-5-myths-and-10-rules-for-advanced-social-media
DTSTART;TZID=America/New_York:20130605T120000
DTEND;TZID=America/New_York:20130605T130000
CATEGORIES:webinar
LOCATION:GotoWebinar
WEBSITE:http://www.dealerwebinars.com/5myths.html
URL:http://www.dealerwebinars.com/5myths.html
CONTACT:
ORGANIZER;CN="JD Rucker":https://www.dealerelite.net/profile/JDRucker
ATTACH;FMTTYPE="image/jpeg":
ATTENDEE;ROLE=REQ-PARTICIPANT;PARTSTAT=ACCEPTED;RSVP=TRUE;CN="Aileen O
 tt":https://www.dealerelite.net/profile/AileenOtt
ATTENDEE;ROLE=REQ-PARTICIPANT;PARTSTAT=ACCEPTED;RSVP=TRUE;CN="Michal L
 usk":https://www.dealerelite.net/profile/MichalLusk
ATTENDEE;ROLE=REQ-PARTICIPANT;PARTSTAT=ACCEPTED;RSVP=TRUE;CN="aaron ko
 minsky":https://www.dealerelite.net/profile/aaronkominsky
ATTENDEE;ROLE=REQ-PARTICIPANT;PARTSTAT=ACCEPTED;RSVP=TRUE;CN="JD Rucke
 r":https://www.dealerelite.net/profile/JDRucker
END:VEVENT
END:VCALENDAR
