BEGIN:VCALENDAR
PRODID:NingEventWidget-v1
VERSION:2.0
METHOD:PUBLISH
BEGIN:VTIMEZONE
TZID:America/New_York
X-LIC-LOCATION:America/New_York
BEGIN:DAYLIGHT
TZOFFSETFROM:-0500
TZOFFSETTO:-0400
TZNAME:EDT
DTSTART:19700308T020000
RRULE:FREQ=YEARLY;BYMONTH=3;BYDAY=2SU
END:DAYLIGHT
BEGIN:STANDARD
TZOFFSETFROM:-0400
TZOFFSETTO:-0500
TZNAME:EST
DTSTART:19701101T020000
RRULE:FREQ=YEARLY;BYMONTH=11;BYDAY=1SU
END:STANDARD
END:VTIMEZONE
BEGIN:VEVENT
UID:5283893:Event:120924
DTSTAMP:20260421T063619Z
SUMMARY:Internet Battle Plan VI - Las Vegas - July 20th-22nd
DESCRIPTION: \nJim Ziegler has assembled an incredible powerful lineu
 p of speakers and presenters for Internet Battle Plan VI at the famous
  Golden Nugget Hotel-Casino in Olde Town Las Vegas. \nThis event is h
 igh content- usable information that will immediately improve sales an
 d profits.\nRalph Paglia - Jim Ziegler - Rory Vaden - Elise Kephart - 
 Dan Moore - Dr. Harold Elam Jr. - and at least one or two more surpris
 e presenters. Full sit-down lunch and cocktail events. Stay tuned as t
 he website will be up this week and this information will be updated..
 . \n \nJim Ziegler's internet Battle Plan is rapidly gaining a reput
 ation as the best results event in Automotive Internet... Call Jim per
 sonally for more information... (800) 726-0510\n\nFor more information
  visit https://www.dealerelite.net/events/internet-battle-plan-vi-las
DTSTART;TZID=America/New_York:20110720T080000
DTEND;TZID=America/New_York:20110722T123000
CATEGORIES:internet, sales-marketing, bdc, and, social, media, seminar
LOCATION:Golden Nugget Hotel and Casino- Las Vegas
WEBSITE:http://www.ZieglerSeminars.com
URL:http://www.ZieglerSeminars.com
CONTACT:(800) 726-0510 to register
ORGANIZER;CN="James A. Ziegler":https://www.dealerelite.net/profile/Ja
 mesAZiegler
ATTACH;FMTTYPE="image/jpeg":http://storage.ning.com/topology/rest/1.0/
 file/get/2463044519?profile=original
ATTENDEE;ROLE=REQ-PARTICIPANT;PARTSTAT=ACCEPTED;RSVP=TRUE;CN="James A.
  Ziegler":https://www.dealerelite.net/profile/JamesAZiegler
END:VEVENT
END:VCALENDAR
