BEGIN:VCALENDAR
PRODID:NingEventWidget-v1
VERSION:2.0
METHOD:PUBLISH
BEGIN:VTIMEZONE
TZID:America/New_York
X-LIC-LOCATION:America/New_York
BEGIN:DAYLIGHT
TZOFFSETFROM:-0500
TZOFFSETTO:-0400
TZNAME:EDT
DTSTART:19700308T020000
RRULE:FREQ=YEARLY;BYMONTH=3;BYDAY=2SU
END:DAYLIGHT
BEGIN:STANDARD
TZOFFSETFROM:-0400
TZOFFSETTO:-0500
TZNAME:EST
DTSTART:19701101T020000
RRULE:FREQ=YEARLY;BYMONTH=11;BYDAY=1SU
END:STANDARD
END:VTIMEZONE
BEGIN:VEVENT
UID:5283893:Event:200105
DTSTAMP:20260420T032430Z
SUMMARY:Jim Ziegler's Internet Battle Plan VII - The Northeast
DESCRIPTION: \nJim Ziegler's incredible successful Internet Battle Pl
 an comes roaring into the Northeast United States in October. This is 
 the event they're all talking about for real results in real dealershi
 ps with real customers in real situations... you want to drink and par
 ty...there's other conferences for you BUT...if you want to take real 
 usable and doable information back to your dealership, don't miss Batt
 le Plan. Visit the website and look at the quality of the speakers and
  the content they're delivering. Ziegler SuperSystems\n\n\nFor more in
 formation visit https://www.dealerelite.net/events/internet-battle-pla
 n-vii-the-northeast
DTSTART;TZID=America/New_York:20111005T080000
DTEND;TZID=America/New_York:20111007T123000
CATEGORIES:automotive, internet, sales, and, marketing, seminar, by, z
 iegler, supersystems
LOCATION:Park Ridge Marriott, Park Ridge New Jersey
WEBSITE:http://www.InternetBattlePlan.com
URL:http://www.InternetBattlePlan.com
CONTACT:(800) 726-0510 to register
ORGANIZER;CN="James A. Ziegler":https://www.dealerelite.net/profile/Ja
 mesAZiegler
ATTACH;FMTTYPE="image/jpeg":http://storage.ning.com/topology/rest/1.0/
 file/get/2463044519?profile=original
ATTENDEE;ROLE=REQ-PARTICIPANT;PARTSTAT=ACCEPTED;RSVP=TRUE;CN="James A.
  Ziegler":https://www.dealerelite.net/profile/JamesAZiegler
ATTENDEE;ROLE=REQ-PARTICIPANT;PARTSTAT=TENTATIVE;RSVP=TRUE;CN="Chris S
 araceno":https://www.dealerelite.net/profile/ChrisSaraceno
END:VEVENT
END:VCALENDAR
