BEGIN:VCALENDAR
PRODID:NingEventWidget-v1
VERSION:2.0
METHOD:PUBLISH
BEGIN:VTIMEZONE
TZID:America/New_York
X-LIC-LOCATION:America/New_York
BEGIN:DAYLIGHT
TZOFFSETFROM:-0500
TZOFFSETTO:-0400
TZNAME:EDT
DTSTART:19700308T020000
RRULE:FREQ=YEARLY;BYMONTH=3;BYDAY=2SU
END:DAYLIGHT
BEGIN:STANDARD
TZOFFSETFROM:-0400
TZOFFSETTO:-0500
TZNAME:EST
DTSTART:19701101T020000
RRULE:FREQ=YEARLY;BYMONTH=11;BYDAY=1SU
END:STANDARD
END:VTIMEZONE
BEGIN:VEVENT
UID:5283893:Event:501353
DTSTAMP:20260419T120830Z
SUMMARY:Internet Battle Plan XXII, Teach at the Beach, part two
DESCRIPTION:Jim and Debbie Ziegler have out done themselves putting to
 gether the best Automotive Internet Conference yet!\nFollowing the phe
 nomenal success of Teach at the Beach last summer in Myrtle Beach, SC;
  we have scheduled 20 top automotive industry experts on every aspect 
 of Automotive Internet Sales, Marketing, SEO, SEM, Web Conversion, Vid
 eo response, technology sales and Social Media.\nInstead of a dreary i
 nner city venue, we opted for a beautiful Beach Resort at the end of t
 he summer in Florida.  \nAugust 8th-9th, Sheraton Sand Key Resort in 
 Clearwater Florida. You can actually book a couple of extra days on ei
 ther side of the event at our group discount rate. \n\nCheck it out o
 n our website http://www.InternetBattlePlan.com  and we think you'll 
 agree this is something you and your dealership need to be involved in
 . \n\n\nJim Ziegler , the #AlphaDawg, would love to hear from you abo
 ut group rates. (770) 921 4440, Call me anytime 9-5 eastern time. \nG
 o to the website and check out this powerful event. \"Is Your Dealersh
 ip Operating at it's Potential Sales Numbers?\"\n\nEven if you're doin
 g a great job, this conference will greatly improve your sales and pro
 fits no matter what level you're on now. Watch the video and then go t
 o the website with your credit card in hand. Great Conference... \n\n
 \n\nFor more information visit https://www.dealerelite.net/events/inte
 rnet-battle-plan-xxii-teach-at-the-beach-part-two
DTSTART;TZID=America/New_York:20170808T080000
DTEND;TZID=America/New_York:20170809T173000
CATEGORIES:internet, technology, sales, and, marketing, conference
LOCATION:Sheraton Sand Key Resort, Clearwater Florida
WEBSITE:https://www.google.com/maps/place/Sheraton+Sand+Key+Resort/@27
 .955932,-82.8310347,17z/data=!3m1!4b1!4m5!3m4!1s0x88c2f730ddce0653:0x4
 74d2a0c533eae88!8m2!3d27.955932!4d-82.828846
URL:https://www.google.com/maps/place/Sheraton+Sand+Key+Resort/@27.955
 932,-82.8310347,17z/data=!3m1!4b1!4m5!3m4!1s0x88c2f730ddce0653:0x474d2
 a0c533eae88!8m2!3d27.955932!4d-82.828846
CONTACT:(770) 921-4440
ORGANIZER;CN="James A. Ziegler":https://www.dealerelite.net/profile/Ja
 mesAZiegler
ATTACH;FMTTYPE="image/jpeg":http://storage.ning.com/topology/rest/1.0/
 file/get/2633032417?profile=original
ATTENDEE;ROLE=REQ-PARTICIPANT;PARTSTAT=ACCEPTED;RSVP=TRUE;CN="James A.
  Ziegler":https://www.dealerelite.net/profile/JamesAZiegler
ATTENDEE;ROLE=REQ-PARTICIPANT;PARTSTAT=TENTATIVE;RSVP=TRUE;CN=DealerEL
 ITE:https://www.dealerelite.net/profile/ChrisandMike
END:VEVENT
END:VCALENDAR
